BEGIN:VCALENDAR
VERSION:2.0
PRODID:karlsunruh.org
METHOD:REQUEST
BEGIN:VEVENT
UID:04ce4bfe-3197-470e-9eb8-eab173e3e6f2
URL:https://karlsunruh.org/event/04ce4bfe-3197-470e-9eb8-eab173e3e6f2
SUMMARY:KONZERT: Shonen Knife
DTSTART:20250507T190000Z
DTEND:20250507T190000Z
CATEGORIES:Konzert
DESCRIPTION:Shonen Knife – aus Osaka\, Japan – wurde 1981 von den
  Schwestern Naoko und Atsuko gegründet\, lange bevor Begriffe wie „Riot
  Girrrl“ und „Girl Rock“ in den Sprachgebrauch eingingen\, zupfte
  das rein weibliche Trio zum Klang importierter Ramones-Cover fröhlich
  die Gitarrensaiten. Wie die japanische Kult-Girlgroup The 5\,6\,7\,8s\,
  haben Shonen Knife jahrzehntelange musikalische Veränderungen
  überstanden\, indem sie sich auf das konzentriert haben\, was sie am
  besten können: ihren eigenen ansteckenden Wohlfühl-Pop-Punk zu
  singen.\nIn den letzten 40 Jahren haben sie vielleicht keine
  ausverkauften Stadien gefüllt\, aber sie gelten als großer Einfluss auf
  Alt-Rock-Bands von Sonic Youth bis Nirvana.\nTrotz der vielen Jahre auf
  der Straße ist ihr Enthusiasmus bei Live-Auftritten immer noch eine
  Freude zu sehen\, wenn sie sich in ihrer umfangreichen Diskografie
  vertiefen\, der von solidem Thrash-Rock bis hin zu Hitparadenmelodien
  reicht.\nAber der Schlüssel zu ihrem Erfolg ist ihre entwaffnende\, oft
  leicht surreale Sichtweise auf ihre Punk- und Rockeinflüsse. – und mit
  Songs\, die Tortoise Brand Pot Cleaner heißen\, könnte man ihnen
  vorwerfen\, sich zu ernst zu nehmen?\n
LOCATION:Alte Hackerei\, Alter Schlachthof 11a\, 76131 Karlsruhe
GEO:49.0055385;8.4291958
ORGANIZER:mailto:Alte Hackerei
END:VEVENT
END:VCALENDAR
