BEGIN:VCALENDAR
VERSION:2.0
PRODID:karlsunruh.org
METHOD:REQUEST
BEGIN:VEVENT
UID:07623e7f-0e6d-4807-a61d-f1db78e8a1fc
URL:https://karlsunruh.org/event/07623e7f-0e6d-4807-a61d-f1db78e8a1fc
SUMMARY:LETS TALK CAKE
DTSTART:20260428T140000Z
DTEND:20260428T180000Z
CATEGORIES:Sonstiges\,Sonstiges
DESCRIPTION:LETS TALK CAKE\nRezepte reisen. Sie bewegen sich über
  Grenzen\, Generationen und Küchen hinweg. Ob auf Papier geschrieben\,
  von Hand erinnert oder am Tisch weitergegeben\, sind sie eine
  immaterielle\, bewegliche Form kulturellen Erbes.\n\nKuchen ist Love
  Language\, ein Gefühl von Zuhause\, eine Tradition\, ein Ritual\, eine
  Überraschung\, eine Geste\, eine Erinnerung\, eine Geschichte\, ein Fest
  und ein gemeinsamer Moment.\n\nWir freuen uns\, wenn jede*r eine
  Süßspeise mitbringt\, die eine besondere\, persönliche Bedeutung
  hat.\nAn diesem Nachmittag teilen wir alles miteinander\, was wir
  mitgebracht haben – die Kuchen genauso wie die Geschichten
  dahinter.\nKommt vorbei\, bringt Kuchen\, Appetit und Lust auf Austausch
  mit.\nWir freuen uns auf einen schönen\, entspannten Nachmittag\,
  versüßt mit vielen Kuchengeschichten.\n\nLETS TALK CAKE\nRecipes
  travel. They move across borders\, generations\, and kitchens. Written on
  paper\, remembered by hand\, or shared at the table\, they form an
  intangible and mobile form of cultural heritage.\nCake is a love
  language\, a feeling of home\, a tradition\, a ritual\, a surprise\, a
  gesture\, a memory\, a story\, a celebration\, and a shared moment.\n\nWe
  invite everyone to bring a sweet dish that holds a personal meaning.\nIn
  the afternoon\, we will share everything that has been brought along –
  the cakes as well as the stories behind them.\nCome by\, bring cake\, an
  appetite\, and a desire to connect.\nWe look forward to a warm and
  relaxed afternoon\, sweetened with many cake stories.\n\nالوصفات
  بتسافر. بتتنقل بين الحدود، وبين
  الأجيال، ومن مطبخ لمطبخ. سواء كانت
  مكتوبة على ورقة، محفوظة بالذاكرة، أو
  بتنحكى وبتنتقل على طاولة الأكل، فهي شكل
  من أشكال التراث الثقافي غير المادي
  والمتحرك.\nالكيك هو لغة حب، إحساس
  بالبيت، عادة، طقس، مفاجأة، لفتة حلوة،
  ذكرى، حكاية، احتفال، ولحظة
  مشتركة\nتعالوا، جيبوا معكم كيك، نفس
  للأكل، وحب للتعارف وتبادل الحكي.
  سنتشارك كل ما أحضرناه معنا الحلويات
  نفسها، والقصص التي تقف وراءها
  أيضًا\nومتشوقين نقضي معكم بعد ظهر دافي
  ورايق، تحلّيه حكايات الكيك
  الكتيرة\nيسعدنا أن يحضر كل شخص معه حلوى
  أو طبقًا حلوًا يحمل معنى شخصيًا ومميزًا
LOCATION:Cola Taxi Okay\, Kronenstraße 25\, 76131 Karlsruhe
GEO:49.008172;8.4095862
ORGANIZER:mailto:Cola Taxi Okay
END:VEVENT
END:VCALENDAR
