BEGIN:VCALENDAR
VERSION:2.0
PRODID:karlsunruh.org
METHOD:REQUEST
BEGIN:VEVENT
UID:07652c2a-fd4a-4db6-bce7-5a2d69db224b
URL:https://karlsunruh.org/event/07652c2a-fd4a-4db6-bce7-5a2d69db224b
SUMMARY:STUD AFTR HOUR
DTSTART:20260112T200000Z
DTEND:20260112T230000Z
CATEGORIES:Sonstiges\,Sonstiges
DESCRIPTION:Electronic Live-Sets im COLA TAXI OKAY!\nIm Rahmen des Seminars
  zu elektronischer Tanzmusik präsentieren Studierende der Hochschule für
  Musik Karlsruhe ihre über das Semester entwickelten Livesets in Teams
  aus DJs und VJs im COLA TAXI OKAY e.V.\nDie Veranstaltung findet im
  Anschluss an das SchulmusikForum der Hochschule für Musik statt.Genres:
  Hip Hop\, Afrobeat\, Future Rave\, Techno & Drum’n’Bass Wer Lust auf
  gute Beats und Live-Visuals hat: kommt vorbei und tanzt mit! Offen für
  alle – Wir freuen uns auf euchWann? Mo\, 12. Januar
  2026\n:clock9: Einlass 21:00 | Start 22:00\n\n---------\n\nElectronic
  live sets at COLA TAXI OKAY!\nAs part of the seminar on electronic dance
  music\, students from the Karlsruhe University of Music will present the
  live sets they have developed over the semester in teams of DJs and VJs
  at COLA TAXI OKAY e.V.\nThe event will take place following the
  University of Music's School Music Forum.Genres: Hip hop\, Afrobeat\,
  Future rave\, Techno & Drum'n'bass If you're in the mood for good beats
  and live visuals\, come by and dance with us! Open to everyone – we
  look forward to seeing you there!When? Monday\, January 12\,
  2026\n:clock9: Doors open at 9:00 p.m. | Start at 10:00
  p.m.\n\n---------\n\nعروض موسيقية إلكترونية حية
  في COLA TAXI OKAY!\nفي إطار الندوة حول الموسيقى
  الإلكترونية الراقصة، يقدم طلاب كلية
  الموسيقى في كارلسروه عروضهم الحية التي
  طوروها خلال الفصل الدراسي في فرق من دي
  جي و VJ في COLA TAXI OKAY e.V.\nيقام الحدث بعد
  منتدى الموسيقى المدرسية لكلية
  الموسيقى.الأنواع: هيب هوب، أفروبيت،
  فيوتشر ريف، تكنو ودرام آند بيس إذا كنت
  من محبي الإيقاعات الجيدة والمرئيات
  الحية: تعال وانضم إلينا! مفتوح للجميع –
  نحن في انتظاركممتى؟ الاثنين، 12 يناير
  2026\n:clock9: الدخول 21:00 | البدء 22:00
LOCATION:Cola Taxi Okay\, Kronenstraße 25\, 76131 Karlsruhe
GEO:49.008172;8.4095862
ORGANIZER:mailto:Cola Taxi Okay
END:VEVENT
END:VCALENDAR
