BEGIN:VCALENDAR
VERSION:2.0
PRODID:karlsunruh.org
METHOD:REQUEST
BEGIN:VEVENT
UID:07700b57-84c0-4dce-86d5-8ce7fb03dd78
URL:https://karlsunruh.org/event/07700b57-84c0-4dce-86d5-8ce7fb03dd78
SUMMARY:KNOW FEEL RISE
DTSTART:20251204T160000Z
DTEND:20251204T193000Z
CATEGORIES:Sonstiges\,Sonstiges
DESCRIPTION:KNOW FEEL RISE | 04.12.2025 | 17:00–20:30\nWir bitten um eine
  kurze Anmeldung an: input_karlsruhe@systemli.org\n \nGemeinsam gegen
  Antisemitismus und antimuslimischen Rassismus. Lernen\, reflektieren\,
  wachsen.\n\nWir laden zu einem Workshop ein\, der dazu einlädt\, sich
  gemeinsam mit den Themen Antisemitismus und antimuslimischem Rassismus
  auseinanderzusetzen. Ziel ist es\, die Verflechtungen zwischen
  diesen Diskriminierungsformen sichtbar zu machen\, voneinander zu lernen
  und gemeinsame Wege des Entgegenwirkens zu finden.\n\nDer Workshop bietet
  einen Raum für Reflexion\, Austausch und gemeinsames Lernen. Wir
  möchten miteinander ins Gespräch kommen und dabei eine lernende und
  fehlerfreundliche Haltung einnehmen.\n\nEs wird eine Pause zum
  gemeinsamen Abendessen geben.\n\nDas Projekt Yad be Yad („Hand in
  Hand“ auf Arabisch und Hebräisch) setzt sich dafür ein\, Wissen über
  Antisemitismus\, antimuslimischen Rassismus\, Vielfalt im Judentum und
  Islam sowie demokratische Werte zu fördern.\n\n--\n\nKNOW FEEL RISE | 04
  December 2025 | 17:00–20:30\nTogether against antisemitism and
  anti-Muslim racism. Learn\, reflect\, grow.\n\nWe invite you to a
  workshop that encourages participants to engage with the topics of
  antisemitism and anti-Muslim racism. The goal is to make the connections
  between these forms of discrimination visible\, to learn from one
  another\, and to find shared ways of counteracting them.\n\nThe workshop
  offers a space for reflection\, exchange\, and collective learning. We
  aim to engage in conversation with each other while maintaining a
  learning-oriented and mistake-friendly attitude.\n\nThere will be a break
  for a shared dinner.\n\nThe project Yad be Yad (“Hand in Hand” in
  Arabic and Hebrew) is dedicated to promoting knowledge about
  antisemitism\, anti-Muslim racism\, diversity within Judaism and Islam\,
  as well as democratic values.\n---\n\nKNOW FEEL RISE | 04.12.2025 |
  17:00–20:30\nمعًا ضد معاداة السامية
  والعنصرية ضد المسلمين. نتعلّم، نتأمّل،
  وننمو.\n\nندعوكم إلى ورشة عمل تهدف إلى
  التعمّق في موضوعي معاداة السامية
  والعنصرية ضد المسلمين. يهدف هذا اللقاء
  إلى إظهار الترابط بين هاتين الصورتين من
  التمييز، والتعلّم المتبادل، وإيجاد طرق
  مشتركة لمواجهتهما.\n\nتوفر ورشة العمل
  مساحة للتأمّل وتبادل الخبرات والتعلّم
  المشترك. نرغب في فتح حوار بنّاء مع
  الحفاظ على نهج تعلّمي يسمح بالخطأ
  ويشجّع على التطوّر.\n\nسيكون هناك استراحة
  لتناول العشاء معًا.\n\nيعمل مشروع يد بيد
  ("يدًا بيد" بالعربية والعبرية) على تعزيز
  المعرفة بمعاداة السامية والعنصرية ضد
  المسلمين، وبالتنوّع داخل  الديانة
  اليهودية والإسلام، وكذلك بالقيم
  الديمقراطية.
LOCATION:Cola Taxi Okay\, Kronenstraße 25\, 76131 Karlsruhe
GEO:49.008172;8.4095862
ORGANIZER:mailto:Cola Taxi Okay
END:VEVENT
END:VCALENDAR
