BEGIN:VCALENDAR
VERSION:2.0
PRODID:karlsunruh.org
METHOD:REQUEST
BEGIN:VEVENT
UID:09380953-a400-4b74-adf8-8661245fd8bf
URL:https://karlsunruh.org/event/09380953-a400-4b74-adf8-8661245fd8bf
SUMMARY:Abschiebung stoppen! Rasper muss bleiben!
DTSTART:20250701T153000Z
DTEND:20250701T173000Z
CATEGORIES:Demo/Kundgebung\,Solidarität
DESCRIPTION:Rasper soll in den Irak abgeschoben werden\, dabei fängt seine
  Ausbildung als Frisör im September an. Im Irak erwartet ihn keine
  Zukunft\, lediglich Angst vor Krieg (da seine Familie in der Nähe von
  Iran wohnt) und Verfolgung\, da er zu einer ethnischen Minderheiten
  gehört.\n\nLass uns Solidarität mit Rasper zeigen und den Behörden\,
  dass er hier bleiben muss. \n\nAktuell arbeitet Rasper bereits bei TomCo
  Friseur und hat einen gültigen Ausbildungsvertrag ab September und soll
  trotzdem das Land verlassen. Die Polizei stand schon vor der
  Tür.\n\nHilf uns seine Abschiebung mit deiner Unterschrift zu stoppen:
  https://chng.it/w8nPMZjwYJ\n\nRasper soll nun am 2. Juli über die
  Türkei ausreisen. Am 1. Juli um 17:30 Uhr findet daher eine Demo auf den
  Marktplatz in Karlsruhe statt.
LOCATION:Marktplatz\, Karlsruhe
GEO:49.0089483;8.4038789
ORGANIZER:mailto:Friends
END:VEVENT
END:VCALENDAR
