BEGIN:VCALENDAR
VERSION:2.0
PRODID:karlsunruh.org
METHOD:REQUEST
BEGIN:VEVENT
UID:0aa33d0b-b25e-4935-91d8-4f09b0c85184
URL:https://karlsunruh.org/event/0aa33d0b-b25e-4935-91d8-4f09b0c85184
SUMMARY:Pasta-Montag
DTSTART:20260615T130000Z
DTEND:20260615T170000Z
CATEGORIES:Bar/Cafe\,Anarchismus
DESCRIPTION:Jeden Montag in Kuna gibt es Pasta mit Sauce.\n\nImmer vegan\,
  immer auf Spendenbasis!\n\nab 15 Uhr geöffnet\nab 17 Uhr Pasta 
LOCATION:Kuna\, Schauenburgstr. 5\, 76135 Karlsruhe
GEO:48.9890192;8.3718512
ORGANIZER:mailto:Kuna
END:VEVENT
END:VCALENDAR
