BEGIN:VCALENDAR
VERSION:2.0
PRODID:karlsunruh.org
METHOD:REQUEST
BEGIN:VEVENT
UID:0ac0cdaf-adcf-4e20-9ecd-97e893e84704
URL:https://karlsunruh.org/event/0ac0cdaf-adcf-4e20-9ecd-97e893e84704
SUMMARY:Onboarding Widerstandskollektiv
DTSTART:20251210T180000Z
DTEND:20251210T200000Z
CATEGORIES:Treffen\,Klimagerechtigkeit
DESCRIPTION:Komm in den Widerstand!\n\nSektorziele? Klimaschutz? Machen wir
  jetzt selber. \n\nWie das geht? \n👉 Komm zum Onboarding\n\n🗓️
  Mi\, 10.12.\n🕖 19 Uhr\n📍 Intro Café (Kaiserstraße 93)
LOCATION:Intro Café\, Kaiserstraße 93\, 76133 Karlsruhe
GEO:49.0092562;8.408867
ORGANIZER:mailto:Widerstands-Kollektiv Karlsruhe
END:VEVENT
END:VCALENDAR
