BEGIN:VCALENDAR
VERSION:2.0
PRODID:karlsunruh.org
METHOD:REQUEST
BEGIN:VEVENT
UID:0ded2c98-b804-45cb-924d-b7a7e00757ec
URL:https://karlsunruh.org/event/0ded2c98-b804-45cb-924d-b7a7e00757ec
SUMMARY:Küche für Alle
DTSTART:20260421T150000Z
DTEND:20260421T200000Z
CATEGORIES:Bar/Cafe\,Queerfeminismus
DESCRIPTION:Hallooo 👋✨ es gibt eine kleine Neuerung: Wir von Weiche
  Kanten organisieren ab jetzt einmal im Monat eine Küche für alle
  (Küfa) – immer am dritten Dienstag im Monat im Kuna (ehemals Café
  Noir). Das Essen ist immer vegan und auf Spendenbasis.\n\nAm 21.04.
  kochen wir gemeinsam Polenta mit Orangenkarotten\, Bärlauchpesto und
  Salat 🥕\n\n📍 Wo? Kuna (ehemals Café Noir) in der Kulturdose\,
  Schauenburgstraße 5\, Karlsruhe\n\n🕔 Wann? Am 21.04. ab 17 Uhr
  gemeinsam kochen\, ab 19 Uhr gemeinsam essen\n\n🌱 Der Raum ist
  barrierearm zugänglich und befindet sich im Erdgeschoss\n\nKommt gern
  vorbei\, egal ob zum Mitkochen oder einfach zum Essen und Dabeisein
  💛\n\nWir freuen uns auf euch!\n\nWenn du Unterstützung bei der
  Anreise oder Gestaltung deines Besuchs haben möchtest\, schreibe uns
  gerne bei Insta @kuna.karlsruhe oder
  queerfem-ka@systemli.org\n\n___English version___\n\nHellooo 👋✨
  we’ve got a small update: We from Weiche Kanten will now be hosting a
  Kitchen for All (Küfa) once a month\, always on the third Tuesday of the
  month at Kuna (formerly Café Noir). The food is always vegan and
  donation-based.\n\nOn April 21\, we’ll be cooking together:\nPolenta
  with orange carrots\, wild garlic pesto\, and salad 🥕\n\n📍 Where?
  Kuna (formerly Café Noir) at Kulturdose\, Schauenburgstraße 5\,
  Karlsruhe\n🕔 When? On April 21 – cooking together from 5 pm\, eating
  together from 7 pm\n\n🌱 The space is barrier-reduced and located on
  the ground floor\n\nFeel free to join\, whether you want to cook together
  or just come by to eat and hang out 💛\n\nWe’re looking forward to
  seeing you!\n\nContact: Insta @kuna.karlsruhe or Mail:
  queerfem-ka@systemli.org\n
LOCATION:Kuna (ehemals Café Noir)\, Schauenburgstr. 5\, Karlsruhe
GEO:48.9890192;8.3718512
ORGANIZER:mailto:Weiche Kanten
END:VEVENT
END:VCALENDAR
