BEGIN:VCALENDAR
VERSION:2.0
PRODID:karlsunruh.org
METHOD:REQUEST
BEGIN:VEVENT
UID:138d8e06-b8da-409d-b7ce-ddabb6ddb650
URL:https://karlsunruh.org/event/138d8e06-b8da-409d-b7ce-ddabb6ddb650
SUMMARY:KONZERT: The Devils
DTSTART:20260131T190000Z
CATEGORIES:Konzert\,Kultur
DESCRIPTION:Sa\, 31.01.2026\nKONZERT: The Devils\nKonzert präsentiert von
  SAU e.V.\nEinlass: 20:00 Uhr | Beginn: 21:00 Uhr\n\n\nThe Devils aus
  Napoli / Süditalien verkörpern den ultimativen Sound des Chaos. Ihr
  Stil ist primitiv\, voller Sex\, Sünde und Rock'n'Roll. Doch ihre Fans
  in ganz Europa wissen\, dass es mehr als nur das spielen mit Klischees
  ist.\n\nFür ihre ersten beiden Veröffentlichungen auf Voodoo Rhythm
  Records („Sin\, you sinners!“ 2016 und „Iron Butt“ 2017) haben
  sie mit dem Produzenten Jim Diamond von The Gories (White Stripes\, The
  Sonics) zusammengearbeitet.\nIhr drittes Album „Beast Must Regret
  Nothing“ [2021] wurde von Alain Johannes (Queens Of The Stoneage\, Them
  Crooked Vultures\, Chris Cornell\, PJ Harvey) produziert und beinhaltet
  einen Song zusammen mit Mark Lanegan. Das bedeutet\, dass die Devils
  nicht nur auf der Bühne ihr Bestes geben\, sie arbeiten ebenfalls
  gekonnt daran\, den richtigen Sound für ihre Songs zu finden.\n\nDie
  Devils sind Gianni Blacula (Gitarre) und Switchblade Erika
  (Schlagzeug/Gesang). Gegründet 2015 benannten sie sich nach Ken Russells
  legendärem Film „The Devils“ (1971). Die Energie die dieses Duo
  versprüht reicht für eine vierköpfige Band. Musikalisch bewegt man
  sich dabei eindeutig in einer Liga solchen Acts wie The Cramps\, Hound
  Dog Taylor\, The Gories\, Jon Spencer\, Hasil Adkins oder The
  Oblivians.\n\n
LOCATION:Alte Hackerei\, Alter Schlachthof 11a\, 76131 Karlsruhe
GEO:49.0055385;8.4291958
ORGANIZER:mailto:Alte Hackerei
END:VEVENT
END:VCALENDAR
