BEGIN:VCALENDAR
VERSION:2.0
PRODID:karlsunruh.org
METHOD:REQUEST
BEGIN:VEVENT
UID:1439bada-126e-47b1-ac04-ecf51b843bf3
URL:https://karlsunruh.org/event/1439bada-126e-47b1-ac04-ecf51b843bf3
SUMMARY:KONZERT: Reverend Beat-Man + Milan Slick
DTSTART:20260130T200000Z
CATEGORIES:Konzert\,Kultur
DESCRIPTION:Fr\, 30.01.2026\nKONZERT: Reverend Beat-Man + Milan
  Slick\nKonzert präsentiert von SAU e.V.\nEinlass: 20:00 Uhr | Beginn:
  21:00 Uhr\n\n\nIhre erste Kollaboration war im Jahre 2020 während der
  großen Pandemie als sie einen Live Soundtrack für den Vampir Film (a
  girl walks home alone at night) schrieben\, wonach sie anschließend
  begannen gemeinsam Konzerte zu geben und Musik zu kreieren\, das in einem
  Album als ‚Reverend Beat Man and the Underground‘ mündete. Ihre
  Musik untermalt eine makabre Tanzparty\, die mit Rock’n’Roll dem
  endgültigen Untergang zusteuert\, das Ein-Mann-Orchester und
  ungekrönter König des primitiven Rock’n’Roll\, trifft auf die
  fragile dunkele\, kultiviert verträumte und verspielte Seele von Milan
  Slick.\n\n2025 nahmen sie zusammen mit Sebastian Zwahlen (the Monsters\,
  Sha Blah) und Robert Butler (Miracle Workers) ihr erstes gemeinsames
  Album in Bern (Schweiz) auf. Die folgenden Liveshows wurden in endlosen
  schweißtreibenden Clubs zu Tage getragen\, wie z.B. Super Sonic
  Records\, Petit Bain (Paris)\, SO36 (Berlin) oder u.a. beim Palp
  Festival.
LOCATION:Alte Hackerei\, Alter Schlachthof 11a\, 76131 Karlsruhe
GEO:49.0055385;8.4291958
ORGANIZER:mailto:Alte Hackerei
END:VEVENT
END:VCALENDAR
