BEGIN:VCALENDAR
VERSION:2.0
PRODID:karlsunruh.org
METHOD:REQUEST
BEGIN:VEVENT
UID:166fcbe4-2e71-402e-a5ac-b2d0652d3106
URL:https://karlsunruh.org/event/166fcbe4-2e71-402e-a5ac-b2d0652d3106
SUMMARY:PARTY: 60s Twist Freakout mit DJ Ugly Robin
DTSTART:20251206T210000Z
CATEGORIES:Party\,Kultur
DESCRIPTION:Sa\, 06.12.2025\nPARTY: 60s Twist Freakout mit DJ Ugly
  Robin\nBeginn ab 22:00h\n\n\nEndlich wieder zurück und zwar mit einem
  Knall: 60s Twist Freakout mit dem besten DJ Ugly Robin!\n\nSoul\,
  Garage\, 60s\, Trash und Freakbeat! 1000% Spaß!
LOCATION:Alte Hackerei\, Alter Schlachthof 11a\, 76131 Karlsruhe
GEO:49.0055385;8.4291958
ORGANIZER:mailto:Alte Hackerei
END:VEVENT
END:VCALENDAR
