BEGIN:VCALENDAR
VERSION:2.0
PRODID:karlsunruh.org
METHOD:REQUEST
BEGIN:VEVENT
UID:17521133-5f5e-4f8b-9b37-5e2c5cc1e1d4
URL:https://karlsunruh.org/event/17521133-5f5e-4f8b-9b37-5e2c5cc1e1d4
SUMMARY:HIIT YOUR GOAL
DTSTART:20260223T180000Z
DTEND:20260223T193000Z
CATEGORIES:Sonstiges\,Sonstiges
DESCRIPTION:HIIT Your Goal! Movement in community 💃🏼\n\nIn 2026
  schreiben wir Selfcare groß und starten mit Tabata durch. \nWas ist
  Tabata? Rhythmische Musik\, 20 Sekunden high intensity Übungen\, 10
  Sekunden Pause. Die Übungen werden angeleitet aber du entscheidest\, ob
  du ein sehr intensives Training\, oder viele Pausen und dich einfach
  locker bewegen willst. Dein Körper\, Dein Training.\n\nBring your body\,
  bring your sport outfit and a mat (if you want: some weights).\nAll
  bodies and levels welcome ✨\n\n__\n\nHIIT Your Goal! Movement in
  community 💃🏼\n\nIn 2026\, we're putting self-care first and kicking
  things off with Tabata. \nWhat is Tabata? Rhythmic music\, 20 seconds of
  high-intensity exercises\, 10 seconds of rest. The exercises are guided\,
  but you decide whether you want a very intense workout or lots of breaks
  and just want to move gently. Your body\, your workout.\n\nBring your
  body\, bring your sports outfit\, and a mat (if you want: some
  weights).\nAll bodies and levels welcome ✨
LOCATION:Cola Taxi Okay\, Kronenstraße 25\, 76131 Karlsruhe
GEO:49.008172;8.4095862
ORGANIZER:mailto:Cola Taxi Okay
END:VEVENT
END:VCALENDAR
