BEGIN:VCALENDAR
VERSION:2.0
PRODID:karlsunruh.org
METHOD:REQUEST
BEGIN:VEVENT
UID:1bf3ea21-a58b-4c2b-a56e-cb2cb8ee5c31
URL:https://karlsunruh.org/event/1bf3ea21-a58b-4c2b-a56e-cb2cb8ee5c31
SUMMARY:SUKINI -schlaue Musik für schlaue Kids-
DTSTART:20251005T140000Z
DTEND:20251005T160000Z
CATEGORIES:Konzert\,Kultur
DESCRIPTION:𝗗𝗢𝗢𝗥𝗦 15.00 // 𝗞𝗢𝗡𝗭𝗘𝗥𝗧
  16.00                                                 Eine Coop zwischen
  Jubez und P8²\n𝗗𝗶𝗲 𝗕𝗲𝗶𝗹𝗮𝗴𝗲 𝘇𝘂𝗺
  𝗛𝗮𝘂𝗽𝘁𝗴𝗲𝗿𝗶𝗰𝗵𝘁
  𝗺𝗮𝗰𝗵𝗲𝗻: 𝗦𝘂𝗸𝗶𝗻𝗶𝘀
  𝘇𝘄𝗲𝗶𝘁𝗲𝘀 𝗔𝗹𝗯𝘂𝗺\, „𝗗𝗮
  𝗵𝗮𝗯𝗲𝗻 𝘄𝗶𝗿 𝗱𝗲𝗻 𝗦𝗮𝗹𝗮𝘁“
  𝗳𝗲𝗶𝗲𝗿𝘁 𝗞𝗶𝗻𝗱𝗲𝗿 𝘂𝗻𝗱
  𝗱𝗶𝗲 𝗥𝗲𝘃𝗼𝗹𝘁𝗲\nNach vier Jahren ist es
  endlich soweit: Sukini\, seit Jahren im HipHop auch als Sookee bekannt\,
  liefert mit ihrem zweiten Album erneut Musik für Kinder\, bei der
  Erwachsene gerne mithören dürfen. Nach fast 20 Jahren als
  queerfeministische Rapperin kommt von Sukini nun eine weitere Einladung
  an alle Leutis – mit der Musik mitzuwachsen\, und zugleich auch mit den
  Themen und Diskussionen\, die Sukini mal laut\, mal leise in ihren Texten
  aufgreift und verarbeitet.\n„Da haben wir den Salat“ liefert weit
  mehr als nur eine Beilage\, es schenkt jüngeren und älteren Ohren eine
  musikalisch und inhaltlich reichhaltige Fortführung und
  Weiterentwicklung des 2019 erschienen Albums „Schmetterlingskacke“.
  Für Sukini kein Zufall\, sondern Programm: „Mir war schon lange klar\,
  dass ich mich mit Schmetterlingskacke nicht einfach ausprobieren wollte.
  Die neuen Lieder sind nach und nach mit mir gewachsen und reflektieren
  nicht nur die Dinge\, die mich beschäftigen und die Welt\, in der wir
  leben\, sondern auch meinen Umgang mit alledem.“\nPolitisch
  nachhaltig: Musik\, die Zeit braucht und Zeit gibt\nEhrlich\, direkt\,
  unmittelbar – so erlebt Sukini all jene vor allem jüngeren Menschen\,
  die ihr bei Konzerten begegnen. Ehrlich\, direkt und unmittelbar ist auch
  ihr Umgang mit dem Publikum. Anstelle von künstlichen Inszenierungen und
  schnelllebigen Musikprodukten wählt Sukini einen anderen Weg: Themen\,
  die ihrer Lebensrealität und der Auseinandersetzung mit
  Gegenwartsdiskussionen entspringen\, sowie künstlerische
  Entscheidungen\, die über kommerzielle gestellt werden.\nEhrlich\,
  direkt\, unmittelbar zeigt sich auch der titelgebende Song „Da haben
  wir den Salat“. Immer wieder hätten sich Kinder bei ihren Konzerten
  ein Lied über Tiere gewünscht. Entstanden ist nun ein veganer Song
  über das Tiere-(Nicht)essen\, der Tierrechte und die Wichtigkeit von
  Tierwohl altersgerecht vermittelt.\n\n
LOCATION:p8\, Schauenburgstraße 5\, 76135 Karlsruhe
GEO:48.9887950677221;8.372030230380888
ORGANIZER:mailto:p8
END:VEVENT
END:VCALENDAR
