BEGIN:VCALENDAR
VERSION:2.0
PRODID:karlsunruh.org
METHOD:REQUEST
BEGIN:VEVENT
UID:1cef6e47-8925-4332-a841-74db1ab52e2e
URL:https://karlsunruh.org/event/1cef6e47-8925-4332-a841-74db1ab52e2e
SUMMARY:Küche Für Alle
DTSTART:20251209T160000Z
DTEND:20251209T210000Z
CATEGORIES:Bar/Cafe\,Solidarität
DESCRIPTION:Die Idee der Küche für Alle (KüfA) ist\, zusammen zu kochen
  und und zu essen.\n\nBeim Kochen spielen Dinge wie Nachhaltigkeit\, eine
  gute Verwertung von und der achtsame Umgang mit Lebensmitteln eine
  wichtige Rolle. Wir möchten bewusst darüber nachdenken\, wie
  Lebensmittel produziert werden\, wie wir das Kochen organisieren und wie
  wir das Essen mit anderen teilen.\n\nDie Küche für Alle möchte dazu
  anregen\, sich kritisch mit Überproduktion\, Wegwerfmentalität und
  Ungleichverteilung auseinanderzusetzen\, denn all das führt zu
  Ausbeutung und Zerstörung von Mensch\, Tier und Natur. Dies zeigt sich
  in der Produktion von Lebensmitteln\, aber auch im Umgang untereinander
  und mit den Produkten. Deswegen werden die Gerichte oft mit
  Lebensmitteln\, die vor dem Wegwerfen bewahrt wurden und biologisch
  angebauten\, regionalem und/oder saisonalem Gemüse zubereitet.\n\nWenn
  du schon mal bei der Küche für Alle im Café Noir warst\, ist dir
  bestimmt auch aufgefallen\, dass alle Gerichte immer vegan sind. Das ist
  ebenfalls ein wichtiger Aspekt- die Küche im Cagé Noir ist eine vegane
  Küche! Das bedeutet\, alles\, was über die Theke gereicht wird\, soll
  vegan sein. Das hat mehrere Gründe\, ein wichtiger davon ist\, dass
  vegane Produkte der größte Nenner sind\, um möglichst viele Menschen
  teilhaben zu lassen. Ausgenommen sind natürlich einzelne
  Unverträglichkeiten\, die gesondert berücksichtigt werden müssen 🙂
  Zudem ist das Kochen mit veganen Zutaten eine Konsequenz aus einer
  kritischen Auseinandersetzung mit Tierwohl und Ausbeutungsstrukturen.
  Auch hier möchte die Küche für Alle Alternativen anbieten.\n\nNeben
  dem Kochen gehören auch soziale Aspekte zur Küche für Alle: es wird
  gemeinsam gekocht\, zusammen gegessen und danach auch gemeinsam
  aufgeräumt. Es soll ein Ort gestaltet werden\, an dem sich alle
  wohlfühlen\, miteinander in Kontakt kommen und sich austauschen
  können.\n\nKomm doch auch mal vorbei! Die Küche für Alle findet
  momentan jeden Dienstag ab 17 Uhr statt.\n\nDa wird mit Kochen begonnen-
  um 19 Uhr gibt es dann Essen.\n\n\nInfos zur Barrierefreiheit:\n\nDas
  Café Noir ist ebenerdig zugänglich. Eine barrierefreie Toilette steht
  zur Verfügung. Es stehen verschiedene Sitzgelegenheiten zur
  Verfügung.\n\nDas Café Noir ist über die Haltestellen Windeckstraße
  und Hardecksiedlung zu erreichen.\n\nWenn du Unterstützung bei der
  Anreise oder Gestaltung deines Besuchs haben möchtest\, schreibe uns
  gerne eine Mail an: cafe-noir@riseup.net
LOCATION:Café Noir\, Schauenburgstraße 5\, 76135 Karlsruhe
GEO:48.98860975680665;8.372009074104096
ORGANIZER:mailto:Café Noir
END:VEVENT
END:VCALENDAR
