BEGIN:VCALENDAR
VERSION:2.0
PRODID:karlsunruh.org
METHOD:REQUEST
BEGIN:VEVENT
UID:1e2c4d33-b421-4aa8-bc95-b5b19058edbd
URL:https://karlsunruh.org/event/1e2c4d33-b421-4aa8-bc95-b5b19058edbd
SUMMARY:Kundgebung gegen Sparhaushalt der Stadt Karlsruhe 
DTSTART:20250722T124500Z
CATEGORIES:Demo/Kundgebung\,Solidarität
DESCRIPTION:Die Stadtverwaltung will ab nächsten Jahr 80 Millionen Euro
  sparen. \n\nDamit nicht dort gekürzt wird wo es das Zusammenleben in
  unserer Stadt gefährden würde fordern wir vom Bündnis solidarische
  Stadt Karlsruhe: \n\nkein sparen bei Bildung 📚 Gesundheit 💊 Kultur
  🎵 Klimaschutz 🌍 und Sozialen Projekten 🤝\n\nKomm auch du zu
  unserer Kundgebung gegen die Sparpläne.\n🗓️ 22.07.\n🕒 14:45
  Uhr\n📍Marktplatz \n\nBündnismitglieder:\n - Sozialpädagogische
  Alternativen E.V.\n - Klimabündniss Karlsruhe \n - Kulturring Karlsruhe
  e.V.\n - Fridays for Future Karlsruhe\n - queerKAstle \n -
  Aktionsbündnis "Frauen gegen Gewalt an Frauen"
LOCATION:Marktplatz\, marktplatz karlsruhe
GEO:49.0089483;8.4038789
ORGANIZER:mailto:Bündniss solidarische Stadt Karlsruhe
END:VEVENT
END:VCALENDAR
