BEGIN:VCALENDAR
VERSION:2.0
PRODID:karlsunruh.org
METHOD:REQUEST
BEGIN:VEVENT
UID:1e925521-1c1f-439a-8d6b-c9d1b0603022
URL:https://karlsunruh.org/event/1e925521-1c1f-439a-8d6b-c9d1b0603022
SUMMARY:KONZERT: Yawning Man + Soft Sun
DTSTART:20251211T180000Z
CATEGORIES:Konzert\,Kultur
DESCRIPTION:Do\, 11.12.2025\nKONZERT: Yawning Man + Soft Sun\nKonzert
  präsentiert von SAU e.V.\nEinlass: 19:00 Uhr | Beginn: 20:00
  Uhr\n\n\nDas Klangerlebnis von Yawning Man lässt sich als ein intensives
  und doch anmutiges Kaleidoskop polyphoner musikalischer Texturen
  zusammenfassen. Ihr neuestes Album Long Walk of the Navajo fügt ihrem
  wachsenden Katalog von Aufnahmen hinzu und untermauert ihren
  langjährigen Status als weltweit gefragter Name mit 15 Jahren weltweiter
  Tourneen. Ursprünglich wurde die Band in den späten 1980er Jahren in
  der Besetzung Gary Arce\, Mario Lalli\, Alfredo Hernandez und Larry Lalli
  gegründet. Die Besetzung von 2022 umfasst Gary Arce\, Bill Stinson und
  die Rückkehr von Billy Cordell (Brant Bjork und Kyuss Lives) am Bass und
  rundet ihren jahrelangen aktiven Aufnahme- und Tourneeplan ab. Arce und
  Cordell haben 2005 die Pothead EP mitgeschrieben und waren 2005 und 2006
  auf den ersten Europatourneen von Yawning Man unterwegs. Im Jahr 2023
  ersetzte Greg Saenz (John Garcia\, The Dwarves) Bill Stinson am
  Schlagzeug und begann mit dem Schreiben von neuem Material für ihre
  Australien- und Europa-Tournee im Sommer 2023.\n\nDie drei haben eine
  Herangehensweise\, die in den Songs zu fließen scheint und den hallenden
  Tönen erlaubt\, in die atmosphärische Wüstenlandschaft zu atmen\, die
  wir mit jedem Song visualisieren können. Yawning Man ist in der
  Underground-Gemeinde als eine der Schlüsselfiguren in der Entwicklung
  des Wüsten-/Stoner-Rock-Subgenres bekannt und anerkannt. Während ihre
  Zeitgenossen sich zu den schweren Riffs von Grunge und Post-Punk
  hingezogen fühlten\, lehnten sich Yawning Man mit ihren einzigartigen
  und organischen\, cineastischen Kompositionen und psychedelischen
  Improvisationen in eine andere Richtung. Der perfekte Soundtrack für die
  weitläufige Mondlandschaftsatmosphäre der gut dokumentierten
  „Generator-Partys“ in ihrer Gegend in den späten 1980er Jahren. Auf
  diesen Veranstaltungen entwickelten sie ihren unverwechselbaren Stil und
  Sound\, indem sie die Zuschauer mit ihren scheinbar endlosen
  Instrumental-Sessions in freier Form verzauberten\, die in den
  wunderschönen Wüsten\, Mesas und Landschaften des Coachella Valley
  widerhallten.\n\nSoft Sun wurde im Jahr 2023 gegründet von Gary Arce
  (Yawning Man)\, Pia Isaksen (PIA ISA) und Dan Joeright (Earth Moon
  Earth). Mit Arce ́s einzigartigen und schönen Gitarrenmelodien und
  -klängen\, Isaksens schweren Bass und eindringlichem Gesang\, und
  Joeright ́s perfekt geduldigem Schlagzeugspiel liefert das Trio
  schwere\, sanfte und verträumte Musik mit einem ganz eigenen Sound.
LOCATION:Alte Hackerei\, Alter Schlachthof 11a\, 76131 Karlsruhe
GEO:49.0055385;8.4291958
ORGANIZER:mailto:Alte Hackerei
END:VEVENT
END:VCALENDAR
