BEGIN:VCALENDAR
VERSION:2.0
PRODID:karlsunruh.org
METHOD:REQUEST
BEGIN:VEVENT
UID:201ed3a7-a800-4756-94a8-b366370e20bd
URL:https://karlsunruh.org/event/201ed3a7-a800-4756-94a8-b366370e20bd
SUMMARY:Widerstands-Kollektiv - offenes Plenum
DTSTART:20250527T170000Z
CATEGORIES:Treffen\,Klimagerechtigkeit
DESCRIPTION:offenes Plenum des Widerstands-Kollektiv Karlsruhe\nab 19:00
  vegane Küfa\, danach offenes Plenum\n\n\n\nEmail:
  karlsruhe@widerstands-kollektiv.org\nSignal Infokanal:
  https://signal.group/#CjQKIO9oIhBjZupj4JWoYZO_dhmnRXDP6T4F5I2rsWVxwNyUEhC
 nvUcDpyr5GDdd1QsVzjTb\n
LOCATION:Zähringerstraße 10\, Zähringerstraße 10\, Karlsruhe\, 1. OG
GEO:49.0085922;8.4141338
ORGANIZER:mailto:Widerstands-Kollektiv Karlsruhe
END:VEVENT
END:VCALENDAR
