BEGIN:VCALENDAR
VERSION:2.0
PRODID:karlsunruh.org
METHOD:REQUEST
BEGIN:VEVENT
UID:2214a18c-7326-491f-8d7e-bd9db3c4560b
URL:https://karlsunruh.org/event/2214a18c-7326-491f-8d7e-bd9db3c4560b
SUMMARY:COMEDY: Chaos Comedy Club
DTSTART:20260515T170000Z
CATEGORIES:Party\,Kultur
DESCRIPTION:Fr\, 15.05.2026\nCOMEDY: Chaos Comedy Club\npräsentiert von
  SAU e.V.\nEinlass: 19:00 Uhr | Beginn: 20:00 Uhr\n\n\nDeine Stadt ist
  langweilig geworden. Du hast alles schon gesehen\, gehört und getrunken.
  Bist zu alt für den Scheiß und zu jung für die Couch. Du bist reif
  für den CHAOS COMEDY CLUB\, die Lösung all deiner Feierabendprobleme.
  Vergiss peinliche Stille beim Tinderdate. Keine Blamage auf dem
  Dancefloor.\n Und während deine Kollegen Montags auf der Arbeit
  antanzen\, liegst du lachend wegen Zwerchfellzerrung im
  Krankenhaus.\n\nWir präsentieren in jeder Ausgabe ein gemischtes Line-Up
  mit den frischesten Comedy-Köpfen aus ganz Deutschland. Also popel
  schonmal die 2-Euro-Münzen aus dem Kleingeldglas. Denn in deiner Stadt
  regiert bald das CHAOS! (Zumindest für zwei Stunden.)
LOCATION:Alte Hackerei\, Alter Schlachthof 11a\, 76131 Karlsruhe
GEO:49.0055385;8.4291958
ORGANIZER:mailto:Alte Hackerei
END:VEVENT
END:VCALENDAR
