BEGIN:VCALENDAR
VERSION:2.0
PRODID:karlsunruh.org
METHOD:REQUEST
BEGIN:VEVENT
UID:22e8c7f2-f4ef-49c6-8f47-bb059642a404
URL:https://karlsunruh.org/event/22e8c7f2-f4ef-49c6-8f47-bb059642a404
SUMMARY:Du\, Vater\, gell\, der Krieg is was Gefährliches
DTSTART:20260515T181500Z
DTEND:20260515T200000Z
CATEGORIES:Konzert\,Kultur
DESCRIPTION:Zum internationalen Tag der Kriegsdienstverweigerung widmen
  sich die Schauspielerin Bettina Franke und der Liedermacher Bernd Köhler
  dem großen Thema der Menschheitsgeschichte mit Texten\, Gedichten und
  Songs aus mehreren Jahrhunderten\, montiert mit eigenen Liedern und
  Texten. Der Krieg ist dem Wesen des Menschen nicht eigen. Die Suche nach
  Frieden\, nach einem friedlichen Miteinander bestimmt das Leben seit
  Menschen denken. \n\nDie Schauspielerin und der Liedermacher haben dazu
  Entrüstendes aus Literatur und Musik von Karl Valentin\, Kurt Weil\,
  Berta von Suttner\, Rosa Luxemburg\, Hans-Dieter Hüsch\, Jandl\,
  Ingeborg Bachmann\, Bertolt Brecht\, Hanns Eisler\, Stefan Zweig\, Selma
  Meerbaum-Eisinger\, Immanuel Kant\, Gerhard Zwerenz\, Wolf Biermann u.a.
  zusammengetragen und mit eigenen Beiträgen montiert.\n\nEintritt 10
  €\,
  Tickets:\nhttps://spiegelfechter.de/kabarett/du-vater-gell-der-krieg-is-w
 as-gefaehrliches/\n\n\n
LOCATION:Kabarett in der Orgelfabrik die Spiegelfechter \, Amthausstraße
  17-19 76227 Karlsruhe
ORGANIZER:mailto:DFG-VK Karlsruhe
END:VEVENT
END:VCALENDAR
