BEGIN:VCALENDAR
VERSION:2.0
PRODID:karlsunruh.org
METHOD:REQUEST
BEGIN:VEVENT
UID:2e210737-ef78-4739-9a24-7cd35db73403
URL:https://karlsunruh.org/event/2e210737-ef78-4739-9a24-7cd35db73403
SUMMARY:KONZERT: Wonk Unit
DTSTART:20260805T180000Z
CATEGORIES:Konzert\,Kultur
DESCRIPTION:Mi\, 05.08.2026\nKONZERT: Wonk Unit\nKonzert präsentiert von
  SAU e.V.\nEinlass: 20:00 Uhr | Beginn: 20:30 Uhr\n\n\nWONK UNIT ist eine
  der vielseitigsten und abwechslungsreichsten Bands\, die London im Moment
  zu bieten hat. 2005 wurden sie von Alex nach Auflösung der Punkband The
  Flying Medallions ins Leben gerufen.\n\nPunk in England war so tot und
  langweilig zu der Zeit. Doch mit dem zufälligen Aufeinandertreffen von
  Alex und zwei sehr talentierten Musikern\, Drummer Mez Clough und
  Gitarrist Gavin Kinch\, deren Art zu spielen Alex Songs plötzlich
  überfrisch erklingen ließen\, gab es eine neue
  Punkrockhoffnung.\n\nEine in Europa einzigartige Band mit eigenem Sound\,
  eigenem Humor\, eigenem Festival und tief verwurzeltem DIY Background.
  Alex Brindle Johnson ist dabei als Lead Singer\, Poet\, Skater\, Stage
  Performer und kreativer Motor das Herz der Band\, von der nicht wenige
  behaupten\, dass es das derzeit Spannendste sei\, was es auf Europas
  Punkrockbühnen zu sehen gibt. Dazu passend Musik und Songs\, die sich
  nicht im Geringsten um Genregrenzen scheren und die doch zu jeder Zeit
  Alex Brindle Johnson und damit Wonk Unit sind. Punk braucht seit Jahren
  neuen Input und Wonk Unit liefern genau das.\nAuf der Bühne wird
  Mastermind Alex zur Dampfwalze und zelebriert ein Feuerwerk voller
  Energie\, Wut und Ironie. Textlich verarbeitet Alex sein Tagebuch. Dabei
  geht es zum Beispiel um Großmütter\, Freundinnen\, die sich in den
  Finger schneiden und Züge. Eine Band\, die live einfach nur Spass
  macht.\n\nDas alljährlich stattfindende Wonk Fest gehört inzwischen zum
  festen Bestandteil der Band\, auf welchem Jahr für Jahr befreundete
  Bands und natürlich auch Wonk Unit auftreten und das Jahr für Jahr
  ausverkauft ist.\n\nIhr 8. Studioalbum „ Good Good Glad To Hear it“
  (Pirates Press Rec) kommt Anfang Dezember 2024 raus.\n\n
LOCATION:Alte Hackerei\, Alter Schlachthof 11a\, 76131 Karlsruhe
GEO:49.0055385;8.4291958
ORGANIZER:mailto:Alte Hackerei
END:VEVENT
END:VCALENDAR
