BEGIN:VCALENDAR
VERSION:2.0
PRODID:karlsunruh.org
METHOD:REQUEST
BEGIN:VEVENT
UID:2f1012d2-0871-4a45-aa11-3cd3cc906f07
URL:https://karlsunruh.org/event/2f1012d2-0871-4a45-aa11-3cd3cc906f07
SUMMARY:Käsefondue Special
DTSTART:20260125T170000Z
DTEND:20260125T215900Z
CATEGORIES:Bar/Cafe\,Kultur
DESCRIPTION:Mittlerweile ja fast schon traditionell wird es natürlich auch
  diesen Winter wieder Käsefondue-Abende nach Original Schweizer Rezept im
  hinteren Barraum geben!\n\nBestens geeignet für ein gemütliches
  Zusammensein und Schlemmen sowie Weihnachtsfeiern im kleinen
  Rahmen.\n\nDer Preis pro Person beträgt 32\,00 € und beinhaltet mind.
  250 gr Schweizer Käse p.P. von der Käsehütte in Karlsruhe inkl. Brot
  von der Bäckerei Lörz und Salat.\n\nAußerdem bieten wir eine Auswahl
  von Weißweinen vom Weingut Lidy an.\n\nAnmeldung via E-Mail an
  laura@altehackerei.de!\n\nWir freuen uns auf euch!
LOCATION:Alte Hackerei\, Alter Schlachthof 11a\, 76131 Karlsruhe
GEO:49.0055385;8.4291958
ORGANIZER:mailto:Alte Hackerei
END:VEVENT
END:VCALENDAR
