BEGIN:VCALENDAR
VERSION:2.0
PRODID:karlsunruh.org
METHOD:REQUEST
BEGIN:VEVENT
UID:3165cc4c-680f-4015-98d9-2a50c2930c3f
URL:https://karlsunruh.org/event/3165cc4c-680f-4015-98d9-2a50c2930c3f
SUMMARY:offenes Plenum von Weiche Kanten
DTSTART:20250709T170000Z
DTEND:20250709T213000Z
CATEGORIES:Treffen\,Queerfeminismus
DESCRIPTION:Hast du Lust\, an der Organisation queerfeministischer
  Veranstaltungen mitzuwirken? Hast du eigene Ideen und suchst Menschen\,
  die sie mit dir umsetzen wollen? Oder willst du einfach mal
  vorbeischauen\, sehen wer so hinter der Veranstaltungsreihe steckt und
  Einblicke in unsere Orga-Strukturen bekommen? Das Plenum ist für alle
  offen! Komm vorbei und lern Weiche Kanten und die Menschen\, die sich
  dort engagieren näher kennen. Wir freuen uns auf dich 🙃\n\n\nInfos
  zur Barrierefreiheit:\n\nDas Café Noir ist ebenerdig zugänglich. Eine
  barrierefreie Toilette steht zur Verfügung. Es stehen verschiedene
  Sitzgelegenheiten zur Verfügung.\n\nDas Café Noir ist über die
  Haltestellen Windeckstraße und Hardecksiedlung zu erreichen.\n\nWenn du
  Unterstützung bei der Anreise oder Gestaltung deines Besuchs haben
  möchtest\, schreibe uns gerne eine Mail an: cafe-noir@riseup.net
LOCATION:Café Noir\, Schauenburgstraße 5\, 76135 Karlsruhe
GEO:48.98860975680665;8.372009074104096
ORGANIZER:mailto:Café Noir
END:VEVENT
END:VCALENDAR
