BEGIN:VCALENDAR
VERSION:2.0
PRODID:karlsunruh.org
METHOD:REQUEST
BEGIN:VEVENT
UID:316a5813-5800-40fc-a1a5-4f918df1679d
URL:https://karlsunruh.org/event/316a5813-5800-40fc-a1a5-4f918df1679d
SUMMARY:AFTERSHOWPARTY: The Baboon-Aftershow
DTSTART:20260122T170000Z
CATEGORIES:Party\,Kultur
DESCRIPTION:Do\, 22.01.2026\nAFTERSHOWPARTY: The Baboon-Aftershow\n18:00
  Uhr\n\n\nNach dem Konzert von The Baboon Show bei unseren Freund:innen im
  Substage wird natürlich auch dieses Mal die Aftershowparty in der Alten
  Hackerei stattfinden!\n\nWir öffnen schon um 18:00 Uhr - Beginn der
  Party eben dann\, sobald das Konzert vorbei ist\, also kommt rum und
  trefft nochmal im gemütlichen Rahmen auf die Band.
LOCATION:Alte Hackerei\, Alter Schlachthof 11a\, 76131 Karlsruhe
GEO:49.0055385;8.4291958
ORGANIZER:mailto:Alte Hackerei
END:VEVENT
END:VCALENDAR
