BEGIN:VCALENDAR
VERSION:2.0
PRODID:karlsunruh.org
METHOD:REQUEST
BEGIN:VEVENT
UID:34967a20-e0b2-4df4-9b53-d2f6b4ad69ed
URL:https://karlsunruh.org/event/34967a20-e0b2-4df4-9b53-d2f6b4ad69ed
SUMMARY:KONZERT: The Guilt
DTSTART:20260204T180000Z
CATEGORIES:Konzert\,Kultur
DESCRIPTION:Mi\, 04.02.2026\nKONZERT: The Guilt\nKonzert präsentiert von
  SAU e.V.\nEinlass: 19:00 Uhr | Beginn: 20:00 Uhr\n\n\nNaked Rat Dance ist
  ein furchtloser Mix aus aufgedrehtem Riot-Grrrl-Punk\, exquisit
  dämlichen Synthesizern und hämmernden Gitarren. Diese Musik kratzt an
  jeder Oberfläche – und an jedem Nerv.
  Dancefloor-Aggressions-Bewältigung für glitzerbedeckte- und
  genre-flexible Menschen.\n\n„Live zu spielen ist unsere einzige
  wirklich funktionierende Hexerei. Gemeinsam eine Liveshow zu feiern ist
  magisch. Aber wir leben auch in einer Zeit\, in der wir uns alle
  engagieren müssen – Shows organisieren - auftauchen\, engagiert
  bleiben. Auch das ist Zauberei.“\n\nNach dem schweißtreibenden Erfolg
  ihrer Kassetten-EP „Note to Tape“ aus dem Jahr 2023 (mit Remixen von
  GHLOW\, ABU NEIN und 100BLUMEN) und der beliebten Queer-Hymne „Our
  Feline House“ aus dem Jahr 2025 – dem offiziellen Song des Malmö
  Pride 2025 – sind The Guilt bereit 2026 zu ihrem bisher lautesten Jahr
  zu machen. Das kommende Album\, das über Icons Creating Evil Art
  erscheint\, bietet Garage-Gothic-Balladen\, Power-Punk-Knaller\,
  Queer-Hymnen und Songs für „ziemlich normale Hexen“.\n\nThe Guilt
  sind keine Unbekannten auf deutschen Bühnen und in deutschen
  Supermärkten:\n\n„Eine unserer Hauptbeschäftigungen in Deutschland
  ist Lebensmitteleinkauf. Für Curry-Ketchup\, Mate und veganes Cevapcici
  geben wir unsere Gagen aus. Wir haben ernsthaft darüber gesprochen\, den
  Tourbus aufzurüsten\, damit mehr Snacks reinpassen. So sind wir
  eben.“\n\n„Wir haben auch gehört\, dass es irgendwo in Deutschland
  eine Waschbär-Invasion gibt. Wir wissen\, dass das problematisch sein
  kann\, aber mal ehrlich? Wenn wir einem Waschbären begegnen würden\,
  wäre das wahrscheinlich der schönste Tag unseres Lebens. Bis auf den
  Tag\, als wir mit den Robben auf Helgoland spielen durften. Der bleibt
  unschlagbar.“\n\nFoto: Åke Tireland
LOCATION:Alte Hackerei\, Alter Schlachthof 11a\, 76131 Karlsruhe
GEO:49.0055385;8.4291958
ORGANIZER:mailto:Alte Hackerei
END:VEVENT
END:VCALENDAR
