BEGIN:VCALENDAR
VERSION:2.0
PRODID:karlsunruh.org
METHOD:REQUEST
BEGIN:VEVENT
UID:36619de7-3f46-4bb1-b45c-c26fe8d5155a
URL:https://karlsunruh.org/event/36619de7-3f46-4bb1-b45c-c26fe8d5155a
SUMMARY:Über junge Burschen und alte Herren
DTSTART:20260330T160000Z
CATEGORIES:Vortrag\,Antifaschismus
DESCRIPTION:Einführung in Verbindungskritik mit Beispielen aus
  Karlsruhe.\nReferent: Lucius Teidelbaum
LOCATION:z10 Karlsruhe
ORGANIZER:mailto:z10
END:VEVENT
END:VCALENDAR
