BEGIN:VCALENDAR
VERSION:2.0
PRODID:karlsunruh.org
METHOD:REQUEST
BEGIN:VEVENT
UID:38269e03-c987-48bc-845b-164a163fe330
URL:https://karlsunruh.org/event/38269e03-c987-48bc-845b-164a163fe330
SUMMARY:PARTY: DJ JensOmatic
DTSTART:20260130T220000Z
CATEGORIES:Party\,Kultur
DESCRIPTION:Fr\, 30.01.2026\nPARTY: DJ JensOmatic\nBeginn: 23:00
  Uhr\n\n\nNever mind the Holzbein\, hier kommt JensOmatic!\n\nKeiner
  schafft es\, sich der unerklärlichen Macht des
  WangDangADulaShingaLingBamBoom zu entziehen und der Tanzfläche
  fernzubleiben\, wenn JensOmatic bis zu den Ellenbogen in die Wühlkiste
  des Rock’n’Roll greift und ungeschliffene Rohdiamanten aus den
  Abfalleimern der Tanzmusik hervorzaubert.\nVon Shimmy Shake bis Shakin’
  Tailfeather\, von Kosher Twist bis Wobble Walk wird alles geboten\, was
  zwei oder mehr Beine bewegt. Mann\, was für ne dufte Sause!\n\nMit
  seinem patentierten JensOmatic Sound\, in den von Jumpin' Blues & Voodoo
  Soul über New Wave und Garage Rock’n’Roll bis Exotica alles
  hineingemischt wird was die Hüfte bewegt\, versetzt er nicht nur
  monatlich die Radiohörer seiner Heimatstadt in helle Aufregung\, sondern
  macht auch die Tanzflächen von Stuttgart bis New York unsicher.
LOCATION:Alte Hackerei\, Alter Schlachthof 11a\, 76131 Karlsruhe
GEO:49.0055385;8.4291958
ORGANIZER:mailto:Alte Hackerei
END:VEVENT
END:VCALENDAR
