BEGIN:VCALENDAR
VERSION:2.0
PRODID:karlsunruh.org
METHOD:REQUEST
BEGIN:VEVENT
UID:39280132-aad8-485d-b1ef-ec86deb20c8c
URL:https://karlsunruh.org/event/39280132-aad8-485d-b1ef-ec86deb20c8c
SUMMARY:Offene Beratung
DTSTART:20250417T163000Z
DTEND:20250417T173000Z
CATEGORIES:Beratung\,Solidarität
DESCRIPTION:Ihr habt Vorladungen von der Polizei oder Staatsanwaltschaft\,
  einen Strafbefehl oder andere Briefe der Repressionbehörden erhalten?
  Ihr seid bei einer Aktion in Gewahrsam genommen worden und fragt euch was
  nun auf euch zukommt oder habt andere Fragen? Dann kommt zu unserem
  monatlichen Beratungstermin und stellt eure Fragen. Wir werden euch
  entsprechend unterstützen!
LOCATION:Barrio 137\, Luisenstraße 31\, 76137 Karlsruhe
GEO:49.00084565;8.405520455565298
ORGANIZER:mailto:Rote Hilfe Karlsruhe
END:VEVENT
END:VCALENDAR
