BEGIN:VCALENDAR
VERSION:2.0
PRODID:karlsunruh.org
METHOD:REQUEST
BEGIN:VEVENT
UID:3e6d8827-c5d2-423b-a9f8-e7fcbd1eafe5
URL:https://karlsunruh.org/event/3e6d8827-c5d2-423b-a9f8-e7fcbd1eafe5
SUMMARY:Café Commune - Coffee. Cake. Communism
DTSTART:20250801T170000Z
DTEND:20250801T210000Z
CATEGORIES:Treffen\,Solidarität
DESCRIPTION:Euch erwartet Karaoke (mit Arbeiter*innenliedern)\, linke
  Kneipenquizze\, Brettspiele\, Filmabende und vieles mehr. Lasst euch
  überraschen! Jeden ersten Freitag im Monat organisieren wir von der
  Interventionistischen Linken Karlsruhe das Café Commune\, zum
  genoss*innenschaftlichen Zusammenkommen\, Feiern\, Snacken und
  Schnacken.\nAb 19 Uhr im Roten Stern\, 2. OG\, Steinstraße 23\nKommt
  vorbei!
LOCATION:Gewerbehof\, Steinstraße 23 \,76133 Karlsruhe
GEO:49.006649;8.4073768
ORGANIZER:mailto:IL Karlsruhe
END:VEVENT
END:VCALENDAR
