BEGIN:VCALENDAR
VERSION:2.0
PRODID:karlsunruh.org
METHOD:REQUEST
BEGIN:VEVENT
UID:4157d1b9-44c2-4e80-a32c-e15cf06bd004
URL:https://karlsunruh.org/event/4157d1b9-44c2-4e80-a32c-e15cf06bd004
SUMMARY:Anarchistischer Stammtisch
DTSTART:20260326T173000Z
DTEND:20260326T213000Z
CATEGORIES:Treffen\,Anarchismus
DESCRIPTION:Am 2. Montag und am 4. Donnerstag im Monat findet ab 18:30 Uhr
  der Anarchistische Stammtisch des Netzwerk ANIKA im Café Noir in der
  Schauenburgstr. 5 statt.\n\nAlle Menschen\, die an anarchistischer
  Politik interessiert sind\, sind herzlich eingeladen.\n\nDer Stammtisch
  bietet Raum zum Austausch\, zur Vernetzung oder gegebenenfalls zum Planen
  von Aktionen und Veranstaltungen.\n\n\nLi(e)bertäre Grüße und bis
  bald.\n\nInfos zur Barrierefreiheit:\n\nDas Café Noir ist ebenerdig
  zugänglich. Eine barrierefreie Toilette steht zur Verfügung. Es stehen
  verschiedene Sitzgelegenheiten zur Verfügung.\n\nDas Café Noir ist
  über die Haltestellen Windeckstraße und Hardecksiedlung zu
  erreichen.\n\nWenn du Unterstützung bei der Anreise oder Gestaltung
  deines Besuchs haben möchtest\, schreibe uns gerne eine Mail an:
  cafe-noir@riseup.net
LOCATION:Café Noir\, Schauenburgstraße 5\, 76135 Karlsruhe
GEO:48.98860975680665;8.372009074104096
ORGANIZER:mailto:Anarchismus in Karlsruhe
END:VEVENT
END:VCALENDAR
