BEGIN:VCALENDAR
VERSION:2.0
PRODID:karlsunruh.org
METHOD:REQUEST
BEGIN:VEVENT
UID:41684149-c931-408f-8b68-e0056ca11ab5
URL:https://karlsunruh.org/event/41684149-c931-408f-8b68-e0056ca11ab5
SUMMARY:"Meins wird deins" – Spielzeugtausch
DTSTART:20251213T110000Z
DTEND:20251213T150000Z
CATEGORIES:Sonstiges\,Solidarität
DESCRIPTION:Tauscht euer Spielzeug\, entdeckt neue Lieblingsstücke\,
  trefft (neue) Freunde und genießt mit uns den Nachmittag bei Crêpes\,
  leckeren Getränken und viel Platz zum Spielen.\n\nKleine und große
  Kinder aufgepasst! Bald heißt es wieder „meins wird deins“\, denn im
  Dezember wird Spielzeug getauscht. Kramt also in euren Kinderzimmern und
  Spielzeugkisten nach noch gut erhaltenen Spielzeugen\, Spielen und
  Kinder- & Jugendbüchern\, die ihr gerne an andere Kinder weitergeben
  möchtet. Bringt diese zum Spielzeugtausch mit\, denn wir veranstalten
  einen großen Tauschbasar. Das heißt\, eure Dinge werden Teil der
  Tauschaktion und ihr dürft euch aus den Sachen anderer Kinder gerne
  Dinge aussuchen\, die ihr mit nach Hause nehmen möchtet. Das Ganze ist
  kostenlos und für jedes Kind offen - egal\, ob ihr was zum Tauschen
  mitbringt oder nicht. Denn ihr werdet es sehen\, Spielzeuge gibt es genug
  und vielleicht findet ihr ja direkt Dinge\, die ihr auf eurer
  Weihnachtswunschliste habt. Zusammen mit dem Kinderschutzbund haben wir
  zusätzlich auch ein paar Mitmachaktionen für euch vorbereitet. \nDas
  Kinder- und Jugendhaus Südwest bietet viel Platz und schöne Räume\, um
  zu tauschen\, zu spielen\, Freunde zu treffen\, neue Freunde zu finden
  und sich auszutoben. Für köstliche Verpflegung ist gesorgt. Die
  Aufsichtspflicht liegt bei den Eltern. Weitere Informationen sind unter
  Webseite zu finden.\nAlso ran an die Spielzeug-Schätze und munter
  losgetauscht! Wir freuen uns auf euch!\n
LOCATION:Kinder- und Jugendhaus Südwest\, Südendstraße 51a\, Karlsruhe
ORGANIZER:mailto:GloW Karlsruhe e.V.
END:VEVENT
END:VCALENDAR
