BEGIN:VCALENDAR
VERSION:2.0
PRODID:karlsunruh.org
METHOD:REQUEST
BEGIN:VEVENT
UID:429fb948-dc2b-45e8-b324-f29d0d84c4f9
URL:https://karlsunruh.org/event/429fb948-dc2b-45e8-b324-f29d0d84c4f9
SUMMARY:Yumi – The whole World
DTSTART:20260128T180000Z
DTEND:20260128T200000Z
CATEGORIES:Film\,Klimagerechtigkeit
DESCRIPTION:Immer weiter rückt das Meer auf den Heimatinseln von Solomon\,
  Vishal und Romabeth im Südpazifik vor. Mit gro-ßer Sorge beobachten die
  drei Jura-Studierenden\, wie die Lebensgrundlagen dort dramatisch
  schwinden. Sie starteneine Kampagne für Klimagerechtigkeit\, um den
  Globalen Norden vor dem Internationalen Gerichtshof zur Rechen-schaft zu
  ziehen. Auf Konferenzen werben sie für ihre Sache\, kämpfen mit
  Diplomatie und unendlich viel positiverEnergie. Mindestens die Hälfte
  der UN-Mitglieder müssen sie überzeugen. Wird ihnen die Welt Gehör
  schenken?\nNach dem Film Gespräch mit Regisseur Felix
  Golenko\n\nhttps://kinemathek-karlsruhe.de/film/yumi-the-whole-world/
LOCATION:Kinemathek\, Kaiserpassage 6 76133 Karlsruhe
GEO:49.010608500000004;8.396970535255974
ORGANIZER:mailto:Kinemathek
END:VEVENT
END:VCALENDAR
