BEGIN:VCALENDAR
VERSION:2.0
PRODID:karlsunruh.org
METHOD:REQUEST
BEGIN:VEVENT
UID:433d3b7b-1945-44b4-b57c-c12e690c761b
URL:https://karlsunruh.org/event/433d3b7b-1945-44b4-b57c-c12e690c761b
SUMMARY:PARTY: Jukebox - Pay the DJ!
DTSTART:20260410T170000Z
CATEGORIES:Party\,Kultur
DESCRIPTION:Fr\, 10.04.2026\nPARTY: Jukebox - Pay the DJ!\nBeginn ab 21:00
  Uhr\n\n\nWeil es so spaßig ist mit euch\, gibt's mal wieder Jukebox -
  Pay the DJ!\n\nAnstatt Eintritt zu zahlen\, könnt ihr an diesem Abend
  Songs kaufen: 1 Song - 1 Euro! An der Tür bekommt ihr Zettel auf denen
  ihr euren Wunschsong schreibt und dann Tinka am DJ-Pult gebt. Die Songs
  werden (unter Vorbehalt) querbeet gespielt\, es ist also für jeden was
  dabei und beschweren könnt ihr euch dann bei den anderen - getanzt
  werden kann auf alles! Wir erhoffen uns eine wilde Mischung aus
  vielfältigem und gutem Musikgeschmack. Kommt vorbei und wünscht euch
  was!
LOCATION:Alte Hackerei\, Alter Schlachthof 11a\, 76131 Karlsruhe
GEO:49.0055385;8.4291958
ORGANIZER:mailto:Alte Hackerei
END:VEVENT
END:VCALENDAR
