BEGIN:VCALENDAR
VERSION:2.0
PRODID:karlsunruh.org
METHOD:REQUEST
BEGIN:VEVENT
UID:435a5bcc-ffce-47a6-8e49-933dd54b69a1
URL:https://karlsunruh.org/event/435a5bcc-ffce-47a6-8e49-933dd54b69a1
SUMMARY:Yi Yi
DTSTART:20251228T143000Z
DTEND:20251228T163000Z
CATEGORIES:Film\,Sonstiges
DESCRIPTION:15:30Tickets\n15:30\nNJ Jian\, seine Frau Min-Min und ihre
  beiden Kinder sind eine typische Mittelklassefamilie\, die sich ihre
  Wohnung in Taipeh mit Min-Mins älterer Mutter teilt. NJ ist Teilhaber
  einer Computerhardware-Firma\, die im letzten Jahr große Gewinne erzielt
  hat\, aber bald bankrott gehen wird\, wenn sie nicht umsteuert. Er findet
  Gefallen an der Idee\, sich mit Ota\, einem innovativen Entwickler von
  Spielesoftware aus Japan\, zusammenzuschließen\, und verbringt gerne
  Zeit mit dem charmanten und weltgewandten Japaner. Für die Jians beginnt
  es an dem Tag\, an dem Min-Mins Bruder A-Di heiratet\, bergab zu gehen.
  An diesem Tag erleidet Min-Mins Mutter einen Schlaganfall und wird im
  Koma ins Krankenhaus gebracht\, aus dem sie möglicherweise nie wieder
  erwachen wird. Es ist auch der Tag\, an dem NJ Sherry trifft\, seine
  erste Jugendliebe\, eine Frau (die inzwischen verheiratet ist)\, die er
  seit zwanzig Jahren nicht mehr gesehen
  hat.\n\nhttps://kinemathek-karlsruhe.de/film/yi-yi/
LOCATION:Kinemathek\, Kaiserpassage 6 76133 Karlsruhe
GEO:49.010608500000004;8.396970535255974
ORGANIZER:mailto:Kinemathek
END:VEVENT
END:VCALENDAR
