BEGIN:VCALENDAR
VERSION:2.0
PRODID:karlsunruh.org
METHOD:REQUEST
BEGIN:VEVENT
UID:48043e49-5f62-4222-82a9-1d2cf4e89cde
URL:https://karlsunruh.org/event/48043e49-5f62-4222-82a9-1d2cf4e89cde
SUMMARY:Von Hitze-Hotspots zu Zukunftssorten –
  Ein KlimaWalk durch Karlsruhe
DTSTART:20250915T150000Z
DTEND:20250915T170000Z
CATEGORIES:Sonstiges\,Klimagerechtigkeit
DESCRIPTION:Wie zeigt sich der Klimawandel direkt vor unserer Haustür?
  \nWarum zählt Karlsruhe zu den heißesten Städten Deutschlands – und
  was bedeutet das für unsere Gesundheit\, unseren Alltag und unsere
  Stadtplanung?\n\nIn diesem interaktiven Stadtrundgang erkunden wir
  gemeinsam zentrale Orte in Karlsruhe und erleben vor Ort\, wie sich Hitze
  und Klimafolgen auf das Stadtleben auswirken. Wir sprechen über lokale
  Herausforderungen und Lösungen – wie Schattenbäume\, Trinkbrunnen
  oder Dachbegrünung – und schlagen die Brücke zu globalen Fragen der
  Klimagerechtigkeit.\n\nAn mehreren Stationen gibt es kurze Inputs\,
  Mitmach-Aktionen\, Raum für Austausch und praktische Tipps. Der Rundgang
  macht sichtbar\, wie eng lokales Handeln und globale Verantwortung
  miteinander verknüpft sind – und was jede*r konkret beitragen
  kann.\n\nDiese Veranstaltung ist Teil der bundesweiten Aktionswoche
  "Woche der Klimaanpassung". \n\nStartpunkt: Pyramide am Marktplatz\,
  Erkennungszeichen: Regenschirm \nAnmeldung erbeten unter
  info@glow-karlsruhe.org\, Teilnehmerzahl ist begrenzt\nKosten: keine\,
  da die Stadt Karlsruhe diese finanziert\nAllgemeine Informationen:
  https://glow-karlsruhe.org/karlsruher-stadtrundgaenge/ 
LOCATION:Marktplatz\, Karl-Friedrich-Str.\, Treffpunkt an der Pyramide
GEO:49.0085332;8.4039225
ORGANIZER:mailto:GloW Karlsruhe e.V.
END:VEVENT
END:VCALENDAR
