BEGIN:VCALENDAR
VERSION:2.0
PRODID:karlsunruh.org
METHOD:REQUEST
BEGIN:VEVENT
UID:4982846a-48a3-4e60-95c7-8d7860d85fc7
URL:https://karlsunruh.org/event/4982846a-48a3-4e60-95c7-8d7860d85fc7
SUMMARY:KREIDLER
DTSTART:20260625T180000Z
DTEND:20260625T200000Z
CATEGORIES:Konzert\,Kultur
DESCRIPTION:KREIDLER ist eine der festen musikalischen Größen dieses
  Landes. Ihr Einfluss im Bereich Electronica\, Post-Rock und Ambient\,
  kann nicht hoch genug eingeschätzt werden. Ihr könnt euch vorstellen
  wie wir uns freuen\, diese Kultband im KOHI auf der Bühne zu haben.\nAuf
  ihrem letztem Album legen Kreidler\, die international gefeierte Band aus
  Berlin/Düsseldorf\, einen Schwerpunkt auf atmosphärische Klangräume
  – natürlich in dem ihnen eigenen rhythmischen Groove\, der hier nur
  federnder und weniger drängend ist. „Schemes“ ist auch geprägt vom
  deutlicheren Benutzen von Natur-/Außenaufnahmen. Das Stück mit Leo
  Garcia als Gastsänger ist auf solch einem Fieldrecording aufgebaut. Mit
  „Schemes“ treten Kreidler in einen Raum ambienter Möglichkeiten und
  schaffen ein Album\, das beides atmet: Sorgfalt\, Durchdachtheit wie auch
  reizvolle Sorglosigkeit.\nDas Trio aus Thomas Klein (Percussion\,
  Schlagzeug\, Found Sounds)\, Alexander Paulick (Fretless-Bass) und
  Andreas Reihse (Synthesizer\, Elektronik\, Field Recordings) kommt nun
  auf Tour mit ihrem neuen Album MARBLE UPSET\, welches am 19.03. auf
  Bureau B erschien.\nEinlass: 19 Uhr\, Beginn: 20 Uh
LOCATION:Kohi\, Werderstr. 47\, 76137 Karlsruhe
GEO:49.0016763;8.407540161512713
ORGANIZER:mailto:Kohi
END:VEVENT
END:VCALENDAR
