BEGIN:VCALENDAR
VERSION:2.0
PRODID:karlsunruh.org
METHOD:REQUEST
BEGIN:VEVENT
UID:4a2bd617-8dfe-40fb-a068-a0e83b3dcfc6
URL:https://karlsunruh.org/event/4a2bd617-8dfe-40fb-a068-a0e83b3dcfc6
SUMMARY:Konzert: Plague over Karlsruhe 2
DTSTART:20260523T160000Z
CATEGORIES:Konzert\,DIY
DESCRIPTION:\n\nBands:\n\nYogze (Hardcore-Punk\,
  Köln)\n\nhttps://wirsindyogtze.bandcamp.com/\n\nSchleppe (
  Crust/Sludge\, Köln)\n\nCruel Division ( Metallic Hardcore\,
  Limburg)\n\nhttps://crueldivisionhc.bandcamp.com
LOCATION:Wagenburg\, Haid- und Neu- Straße 153\, Karlsruhe
GEO:49.0232189;8.4468708
ORGANIZER:mailto:Wagenburg
END:VEVENT
END:VCALENDAR
