BEGIN:VCALENDAR
VERSION:2.0
PRODID:karlsunruh.org
METHOD:REQUEST
BEGIN:VEVENT
UID:4beb59d1-568f-48a8-9c05-f100f379f911
URL:https://karlsunruh.org/event/4beb59d1-568f-48a8-9c05-f100f379f911
SUMMARY:KONZERT: Cocktail Harbour Band
DTSTART:20251205T190000Z
CATEGORIES:Konzert\,Kultur
DESCRIPTION:Fr\, 05.12.2025\nKONZERT: Cocktail Harbour Band\nKonzert
  präsentiert von SAU e.V.\nEinlass: 20:00 Uhr | Beginn: 21:00
  Uhr\n\n\nDie Cocktail Harbor Band aus Karlsruhe startete als monatliche
  Session im Heimathafen\, dem Electric Eel Café. Inzwischen präsentiert
  das Ensemble aus 4 Musikern regelmäßig einen Mix aus Funk\, Rock und
  dem\, was man wohl in den 70ern auf den Yachten vor der Westküste
  gehört hat auf den Bühnen der Stadt. Das Publikum kann sich auf einen
  groovigen Abend gefasst machen. Augen- und Ohrenzeugen haben bereits von
  einer lockeren Atmosphäre berichtet.\nGut am Drink festhalten und schön
  mitwippen!\n\nAftershow Party gibt's mit Cruise Ship Radio Rebels (Funk\,
  Soul\, Rock)!\n\nDie Cocktail Harbor Band sind:\nMagnus Sauer - Gitarre
  und Gesang\nSteffen Schuhmacher - Piano und Gesang\nLouis Müller -
  Bass\nSebastian Hepting - Schlagzeug\n\nTickets an der Abendkasse!
LOCATION:Alte Hackerei\, Alter Schlachthof 11a\, 76131 Karlsruhe
GEO:49.0055385;8.4291958
ORGANIZER:mailto:Alte Hackerei
END:VEVENT
END:VCALENDAR
