BEGIN:VCALENDAR
VERSION:2.0
PRODID:karlsunruh.org
METHOD:REQUEST
BEGIN:VEVENT
UID:4df07358-f842-4bef-ab16-a94ca7b7e33d
URL:https://karlsunruh.org/event/4df07358-f842-4bef-ab16-a94ca7b7e33d
SUMMARY:Free Mumia! Vortrag über das US-amerikanische Gefängnissystem am
  Bsp Mumia Abu-Jamal
DTSTART:20260117T170000Z
CATEGORIES:Vortrag\,Repression
DESCRIPTION:Liebe Genoss*Innen\,\n\nam 17.01.26 wird es im “Roten
  Stern” in Karlsruhe im 18 Uhr einen Infoabend geben. Die Gruppe “free
  Mumia Berlin” berichtet über die Gefängnisindustrie und politische
  Gefangenschaft in den USA am Beispiel von Mumia Abu-Jamal.\n\nDieser ist
  einer der bekanntesten politischen Gefangenen der USA. Er ist ein
  ehemaliges Black Panther Mitglied und Journalist. Seit 44 Jahren sitzt er
  in Haft. Seit seiner Verhaftung und Verurteilung fordern
  Solidaritätsaktivist*Innen in vielen Ländern Mumia Abu-Jamal’s
  Freilassung.\n\nWir freuen uns auf euer zahlreiches Erscheinen 🙂.
  \n\nEure Rote Hilfe OG Karlsruhe.
LOCATION:Roter Stern Karlsruhe\, Steinstraße 23\, Gewerbehof 
ORGANIZER:mailto:Rote Hilfe Karlsruhe
END:VEVENT
END:VCALENDAR
