BEGIN:VCALENDAR
VERSION:2.0
PRODID:karlsunruh.org
METHOD:REQUEST
BEGIN:VEVENT
UID:4e4cb19e-c7e5-40c1-b055-517a82e967d6
URL:https://karlsunruh.org/event/4e4cb19e-c7e5-40c1-b055-517a82e967d6
SUMMARY:DIE HEYDAYS + THE SONIC SPY
DTSTART:20260620T180000Z
DTEND:20260620T200000Z
CATEGORIES:Konzert\,Kultur
DESCRIPTION:Die Heydays sind Markus\, Jan\, Dennis und Andy. Seit 2007
  bewegen sie sich irgendwo zwischen der kleinen Flucht aus dem Alltag und
  dem ganzen Wahnsinn\, der sich Leben nennt. In ihren Songs finden sich
  poppige Indieriffs genauso wie schneller Punk. Ihr drittes Album „heute
  nicht\, morgen vielleicht“ (2019) legt in puncto Energie nun noch eine
  ordentliche Schippe drauf. Alle 11 Songs wurden im HeavyKranich Studio in
  Münster live eingespielt und der Perfektion lachend der Mittelfinger
  gezeigt. Im Lauf der letzten Jahre spielten die Heydays über 80
  Konzerte\, u.a. als Support für Jennifer Rostock\, Ghost of Tom Joad und
  TV Smith. Sogar eine kleine Tour in Mexiko stand auf dem Programm. Mit
  den neuen Songs sind sie nun wieder live unterwegs. Es darf getanzt\,
  getrunken und gefeiert werden. Der Alltag interessiert heute nicht\,
  morgen vielleicht.\nDavor THE SONIC SPY.\nFeinster Indie-Rock trifft auf
  tanzbaren New-Wave. Mit diesem Sound begeistern the SONIC spy
  regel-mäßig die Mengen bei Openairs\, Festivals und in Musik-Clubs. Auf
  der Bühne erzeugen the SONIC spy eine einzigartige Atmosphäre\, die
  lautstark oder sanft\, mal melancholisch oder mystisch zu begeis-tern
  versteht. Ihre Songtexte sind auf deutsch und mit ihrer harten und
  direkten Ansage treffen sie den Nerv der Zeit. Irgendwo zwischen
  Post-Punk\, Indie-Rock\, Noise Pop\, New- und Dark
  Wave.\nhttps://thesonicspy.com/\nEinlass: 19 Uhr\, Beginn: 20 Uhr
LOCATION:Kohi\, Werderstr. 47\, 76137 Karlsruhe
GEO:49.0016763;8.407540161512713
ORGANIZER:mailto:Kohi
END:VEVENT
END:VCALENDAR
