BEGIN:VCALENDAR
VERSION:2.0
PRODID:karlsunruh.org
METHOD:REQUEST
BEGIN:VEVENT
UID:5373e7d4-d9b7-4054-a98c-a1ecebf2b794
URL:https://karlsunruh.org/event/5373e7d4-d9b7-4054-a98c-a1ecebf2b794
SUMMARY:Offene Beratung
DTSTART:20260416T163000Z
DTEND:20260416T173000Z
CATEGORIES:Beratung\,Repression
DESCRIPTION:Ihr habt Vorladungen von der Polizei oder Staatsanwaltschaft\,
  einen Strafbefehl oder andere Briefe der Repressionbehörden erhalten?
  Ihr seid bei einer Aktion in Gewahrsam genommen worden und fragt euch was
  nun auf euch zukommt oder habt andere Fragen? Dann kommt zu unserem
  monatlichen Beratungstermin und stellt eure Fragen. Wir werden euch
  entsprechend unterstützen!\n\n*Als eure lokale Rote-Hilfe-Struktur
  bieten wir jeden 3. Donnerstag im Monat in der Luisenstr. 31 solidarische
  Beratung für Betroffene staatlicher Repression an. Wir heißen
  strömungsübergreifend linke Aktivisti willkommen\, die aufgrund ihrer
  politischen Betätigung verfolgt werden.\nUnsere Unterstützung gilt auch
  Nicht-Mitgliedern\; natürlich sagen wir aber ausdrücklich: Werdet
  Mitglied!*
LOCATION:Barrio 137\, Luisenstraße 31\, 76137 Karlsruhe
GEO:49.00084565;8.405520455565298
ORGANIZER:mailto:Rote Hilfe Karlsruhe
END:VEVENT
END:VCALENDAR
