BEGIN:VCALENDAR
VERSION:2.0
PRODID:karlsunruh.org
METHOD:REQUEST
BEGIN:VEVENT
UID:54815772-dfab-42f8-b0fc-fb26995130e5
URL:https://karlsunruh.org/event/54815772-dfab-42f8-b0fc-fb26995130e5
SUMMARY:Hysteria
DTSTART:20260131T160000Z
DTEND:20260131T180000Z
CATEGORIES:Film\,Sonstiges
DESCRIPTION:Als am Set eines Films ein verbrannter Koran gefunden wird\,
  laufen die Dreharbeiten aus dem Ruder. Die Praktikantin Elif wird in ein
  gefährliches Spiel aus Geheimnissen\, Anschuldigungen und Lügen
  hineingezogen. Mehmet Akif Büyükatalays doppelbödiger\, provokanter
  Verschwörungsthriller spielt mit dem Film-im-Film-Motiv und steckt
  voller unerwarteter Wendungen. Eine präzise Reflexion über die Macht
  der Bilder und die Dynamik von Wahrnehmung\, Projektion und
  gesellschaftlicher
  Hysterie.\n\nhttps://kinemathek-karlsruhe.de/film/hysteria/
LOCATION:Kinemathek\, Kaiserpassage 6 76133 Karlsruhe
GEO:49.010608500000004;8.396970535255974
ORGANIZER:mailto:Kinemathek
END:VEVENT
END:VCALENDAR
