BEGIN:VCALENDAR
VERSION:2.0
PRODID:karlsunruh.org
METHOD:REQUEST
BEGIN:VEVENT
UID:55279f90-04da-46c2-bea4-917fd399a43a
URL:https://karlsunruh.org/event/55279f90-04da-46c2-bea4-917fd399a43a
SUMMARY:Südweststadt Flohmarkt After Glow Party
DTSTART:20250524T180000Z
CATEGORIES:Party\,Solidarität
DESCRIPTION:Glow lädt dich ein den Südweststadt Flohmarkt ab 20:00 Uhr im
  Café Noir ausklingen zu lassen. Von Reggae-Sounds bis Elektro lässt es
  sich mit Freund:innen & Nachbar:innen abhängen & schnacken oder in die
  Nacht Tanzen. Genieße leckere Solidrinks &-snacks. Die Spenden an diesem
  Abend gehen an Glow und zum Kauf von Periodenprodukte (siehe
  Special).\n\nSpecial: Periodenbox-Basteln #GuerillaTamponing\n\nBastel
  mit uns Periodenboxen\, nimm sie mit nach Hause\, verschenke und verteile
  sie auf allen Toiletten in der Stadt. Vorzugsweise auf Toiletten wie in
  kleineren Cafés/Arztpraxen/WGs/…\, wo mensch vermuten kann\, dass
  nicht eine Putzfirma auf sie stößt…\n\nIn der Hoffnung\, dass
  Menschen diesen Anstoß wahrnehmen und für Menstruationsprodukte auf
  Toiletten sorgen:))\nIdee und Infos von https://guerilla-tamponing.de/
  ❤\n\nWas ist eine Periodenbox?\nEine Periodenbox ist ein frei
  zugänglicher Vorrat an Menstruationsprodukten auf einer Toilette.
  Periodenboxen gibt es in z.B. Form einer Pappschachtel\, einer Plastikbox
  oder auch einem professionellen Spender.\n\nWarum braucht es
  Periodenboxen?\nPeriodenboxen sind wichtig für alle Menschen die
  menstruieren. Nicht alle haben immer das passende Periodenprodukt dabei
  und daran zu denken ist anstrengend (Mental Load). Periodenprodukte
  kosten Geld (im Schnitt 300€/Jahr) und die Ausgaben dafür können zu
  Periodenarmut führen. Menstruieren ist ein Krampf\, es ist nur fair
  zumindest die Kosten dafür fair zu verteilen.\n\n\n\nInfos zur
  Barrierefreiheit:\n\nDas Café Noir ist ebenerdig zugänglich. Eine
  barrierefreie Toilette steht zur Verfügung. Es stehen verschiedene
  Sitzgelegenheiten zur Verfügung.\n\nDas Café Noir ist über die
  Haltestellen Windeckstraße und Hardecksiedlung zu erreichen.\n\nWenn du
  Unterstützung bei der Anreise oder Gestaltung deines Besuchs haben
  möchtest\, schreibe uns gerne eine Mail an: cafe-noir@riseup.net
LOCATION:Café Noir\, Schauenburgstraße 5\, 76135 Karlsruhe
GEO:48.98860975680665;8.372009074104096
ORGANIZER:mailto:GloW Karlsruhe e.V.,Café Noir
END:VEVENT
END:VCALENDAR
