BEGIN:VCALENDAR
VERSION:2.0
PRODID:karlsunruh.org
METHOD:REQUEST
BEGIN:VEVENT
UID:58e7d132-7158-4903-a727-dc294a42b767
URL:https://karlsunruh.org/event/58e7d132-7158-4903-a727-dc294a42b767
SUMMARY:Queere Bildung: Grundqualifizierung
DTSTART:20260523T073000Z
DTEND:20260523T150000Z
CATEGORIES:Sonstiges\,Queerfeminismus
DESCRIPTION:Das Bildungsteam von queerKAstle braucht Nachwuchs! Denn
  Workshops zu queerer\nBildung an Schulen sind in unserer Region
  gefragt.\n\nWir brauchen dich\, wenn du dir vorstellen kannst\, in einem
  Team von 2-4\nPersonen an weiterführenden Schulen Workshops anzuleiten
  und an einem\nTeamtreffen im Monat teilzunehmen. Du solltest eine
  gefestigte Persönlichkeit\nmitbringen und offen über deine sexuelle
  und/oder geschlechtliche Identität\nsprechen können. Alles weitere
  lernst du in unserer Grundqualifizierung.\n\nFür die Teilnahme an der
  Grundqualifizierung bitten wir um eine kleine\nfinanzielle
  Selbstbeteiligung von 20 - 50 € (je nach eigener
  Möglichkeit).\nVerbindlich anmelden kannst du dich hier.\n\nDer Termin
  im Überblick:\n\nGrundqualifikation: Queere Bildung | 23.05.2026 (9.30 -
  17.00 Uhr)  \nImpact Studio von Goodspaces\n\nWie läuft ein
  Schulklassenworkshop ab? Welche Methoden werden eingesetzt und\nwie
  leitet man sie an? An diesem Tag bekommst du das nötige Handwerkszeug\,
  um\nselbst in kleinen Teams an weiterführenden Schulen Workshops für
  queerKAstle\ndurchzuführen. Für die Verpflegung sorgen
  wir.\nhttps://queerkastle.de/veranstaltung/grundqualifizierung-2026/
LOCATION:Impact Studio (Goodspaces)\, Roonstraße 23a\, 76137 Karlsruhe
ORGANIZER:mailto:queerKAstle
END:VEVENT
END:VCALENDAR
