BEGIN:VCALENDAR
VERSION:2.0
PRODID:karlsunruh.org
METHOD:REQUEST
BEGIN:VEVENT
UID:58ef865d-6e42-49ea-baa0-5740da5bc1ea
URL:https://karlsunruh.org/event/58ef865d-6e42-49ea-baa0-5740da5bc1ea
SUMMARY:Plenum (Fridays for Future Karlsruhe)
DTSTART:20251006T163000Z
DTEND:20251006T190000Z
CATEGORIES:Treffen\,Klimagerechtigkeit
DESCRIPTION:Jeden Montag treffen wir uns um Klimastreik und sonstige
  Aktionen zu planen.\n\nwenn du mitmachen willst oder uns einfach
  Kennenlernen willst schreib uns doch einfach eine Nachricht per Mail oder
  auf Instagram. Dann können wir dir auch sagen wo das Plenum
  stattfindet.\n\nWir freuen uns auf dich\n\n\nMail:
  karlsruhe@fridaysforfuture.de\n\nInstagram: @fridaysforfuture_ka
LOCATION:(auf Anfrage)
ORGANIZER:mailto:Fridays For Future Karlsruhe
END:VEVENT
END:VCALENDAR
