BEGIN:VCALENDAR
VERSION:2.0
PRODID:karlsunruh.org
METHOD:REQUEST
BEGIN:VEVENT
UID:5a638476-24fc-4cda-b898-58dd1460e23a
URL:https://karlsunruh.org/event/5a638476-24fc-4cda-b898-58dd1460e23a
SUMMARY:Widerstand gegen Militarisierung und Krieg
DTSTART:20250530T170000Z
CATEGORIES:Vortrag\,Internationalismus
DESCRIPTION:Mobivortrag zu Aktionen gegen den Veteranentag &
  Bündnisvorstellung am 30. Mai um 19 Uhr im Roten Stern\, Steinstraße
  23\, 2. OG
LOCATION:Roter Stern\, Steinstr.23 (Gewerbehof 2.OG)
ORGANIZER:mailto:IL Karlsruhe
END:VEVENT
END:VCALENDAR
