BEGIN:VCALENDAR
VERSION:2.0
PRODID:karlsunruh.org
METHOD:REQUEST
BEGIN:VEVENT
UID:61661e24-1008-4212-8336-a98c1e80a185
URL:https://karlsunruh.org/event/61661e24-1008-4212-8336-a98c1e80a185
SUMMARY:Weiche Kanten Plenum
DTSTART:20250409T170000Z
DTEND:20250409T190000Z
CATEGORIES:Treffen\,Queerfeminismus
DESCRIPTION:Hast du Lust\, an der Organisation queerfeministischer
  Veranstaltungen mitzuwirken? Hast du eigene Ideen und suchst Menschen\,
  die sie mit dir umsetzen wollen? Oder willst du einfach mal
  vorbeischauen\, sehen wer so hinter der Veranstaltungsreihe steckt und
  Einblicke in unsere Orga-Strukturen bekommen? Das Plenum ist für alle
  offen! Komm vorbei und lern Weiche Kanten und die Menschen\, die sich
  dort engagieren näher kennen. Wir freuen uns auf dich 🙃 
LOCATION:Café Noir\, Schauenburgstraße 5\, 76135 Karlsruhe
GEO:48.98860975680665;8.372009074104096
ORGANIZER:mailto:Weiche Kanten
END:VEVENT
END:VCALENDAR
