BEGIN:VCALENDAR
VERSION:2.0
PRODID:karlsunruh.org
METHOD:REQUEST
BEGIN:VEVENT
UID:6436b62d-66ab-4a3a-93eb-bfa3998cc782
URL:https://karlsunruh.org/event/6436b62d-66ab-4a3a-93eb-bfa3998cc782
SUMMARY:Widerstands-Kollektiv - offenes Plenum
DTSTART:20251111T180000Z
DTEND:20251111T200000Z
CATEGORIES:Treffen\,Klimagerechtigkeit
DESCRIPTION:!Fällt aus wegen widersetzen-Infoabend im p8!\n\noffenes
  Plenum des Widerstands-Kollektiv Karlsruhe\n\nab 19:00 vegane Küfa\,
  danach offenes Plenum\n\nEmail:
  karlsruhe@widerstands-kollektiv.org\n\nLinktree:
  https://linktr.ee/WiK_Karlsruhe
LOCATION:Zähringerstraße 10\, 1. OG
GEO:49.0085922;8.4141338
ORGANIZER:mailto:Widerstands-Kollektiv Karlsruhe
END:VEVENT
END:VCALENDAR
