BEGIN:VCALENDAR
VERSION:2.0
PRODID:karlsunruh.org
METHOD:REQUEST
BEGIN:VEVENT
UID:65d5c044-7492-4e3f-8e08-10aca1c7c2ec
URL:https://karlsunruh.org/event/65d5c044-7492-4e3f-8e08-10aca1c7c2ec
SUMMARY:Widerstands-Kollektiv - offenes Plenum
DTSTART:20260217T180000Z
DTEND:20260217T200000Z
CATEGORIES:Treffen\,Klimagerechtigkeit
DESCRIPTION:offenes Plenum des Widerstands-Kollektiv Karlsruhe\n\nab 19:00
  vegane Küfa\, danach offenes Plenum\n\nEmail:
  karlsruhe@widerstands-kollektiv.org\n\nLinktree:
  https://linktr.ee/WiK_Karlsruhe
LOCATION:Zähringerstraße 10\, 1. OG
GEO:49.0085922;8.4141338
ORGANIZER:mailto:Widerstands-Kollektiv Karlsruhe
END:VEVENT
END:VCALENDAR
