BEGIN:VCALENDAR
VERSION:2.0
PRODID:karlsunruh.org
METHOD:REQUEST
BEGIN:VEVENT
UID:667d9852-da77-4886-9e35-06f26ef12bc6
URL:https://karlsunruh.org/event/667d9852-da77-4886-9e35-06f26ef12bc6
SUMMARY:KONZERT: Gogoponies + Dumb Bats
DTSTART:20260625T183000Z
CATEGORIES:Konzert\,Kultur
DESCRIPTION:Do\, 25.06.2026\nKONZERT: Gogoponies + Dumb Bats\nKonzert
  präsentiert von SAU e.V.\nEinlass: 20:00 Uhr | Beginn: 20:30
  Uhr\n\n\nGOGOPONIES sind eine Fit-Metal-Band aus Mailand\, Italien\, mit
  schnellen und rhythmischen Songs\, die einen aggregativen Charakter
  haben. Ihr Sound kombiniert Fitness und Thrash Metal mit roher Energie
  und Schweiß für das Gesamtpaket eines trainierten Körpers\, sowohl
  innerlich als auch äußerlich.\n\nSie unterstützen Girl Power\,
  Gleichberechtigung der Geschlechter und die LGBTQIA+-Community\; Sie sind
  gegen jede Art von Gewalt. Keine Politik\, kein Rassismus\, kein
  Sexismus\, kein Mobbing oder irgendetwas anderes\, das den Geist
  vergiften kann. Kontamination ist ein Grund für Wachstum\, Verbesserung
  und Erweiterung der Sichtweisen. Freiheit durch Ausdruck. Jede Show ist
  anders\, mit Requisiten und Kostümen\, mitreißend und
  unterhaltsam.\n\nSie lieben es zu feiern – Pizza. Titten.
  Zerstören!\n\nDie Dumb Bats bringen eine explosive Mischung aus Power\,
  Melodie und Attitüde auf die Bühne. Mit einer mitreißenden Frontfrau
  an der Spitze liefern sie kompromisslosen\, energiegeladenen Punk- rock\,
  der sofort zündet – egal ob auf der Bühne eines großen Festivals
  oder in einem kleinen Club\n\nIhre Songs spiegeln die Liebe der Band zu
  schnellem Punkrock mit rotzigem Gitarrensound und punchy Rhythmsections
  kombiniert mit der ungebremsten Power der Rock’n’Roll-Energie. Dabei
  treffen eingängige Hooklines im Stil von The Interrupters auf die
  kompromisslose Bühnenpräsenz von The Baboon Show\, während
  Alternative-Einflüsse à la Guano Apes und die rohe Garage-Attitüde von
  The Hellacopters für einen ganz eigenen Sound sorgen.
LOCATION:Alte Hackerei\, Alter Schlachthof 11a\, 76131 Karlsruhe
GEO:49.0055385;8.4291958
ORGANIZER:mailto:Alte Hackerei
END:VEVENT
END:VCALENDAR
