BEGIN:VCALENDAR
VERSION:2.0
PRODID:karlsunruh.org
METHOD:REQUEST
BEGIN:VEVENT
UID:6804b367-aa31-478c-8d12-4ada821de87b
URL:https://karlsunruh.org/event/6804b367-aa31-478c-8d12-4ada821de87b
SUMMARY:Find your Fall Friends🍂
DTSTART:20251017T160000Z
DTEND:20251017T180000Z
CATEGORIES:Sonstiges\,Queerfeminismus
DESCRIPTION:🫂 Am 17. Oktober stellen wir um 20 Uhr  Freund*innenschaft
  in den Mittelpunkt. Wir möchten einen Raum eröffnen\, der zum
  Ankommen\, Begegnen und Austauschen einlädt. Lasst uns näher
  zusammenrücken\, neue Freund*innen finden und gemeinsam der kalten
  Jahreszeit trotzen! 🌬️💞\nWir freuen uns auf euch!\n\n🫂 On 17
  October at 8 p.m.\, we will be focusing on friendship. We want to open up
  a space that invites you to arrive\, meet and exchange ideas. Let's move
  closer together\, find new friends and brave the cold season together!
  🌬️💞\nWe look forward to seeing you! 💜\n
LOCATION:Café Noir\, Schauenburgstraße 5\, 76135 Karlsruhe
GEO:48.98860975680665;8.372009074104096
ORGANIZER:mailto:Weiche Kanten
END:VEVENT
END:VCALENDAR
